BEGIN:VCALENDAR
VERSION:2.0
PRODID:-//St Julians Primary School - ECPv6.15.20//NONSGML v1.0//EN
CALSCALE:GREGORIAN
METHOD:PUBLISH
X-WR-CALNAME:St Julians Primary School
X-ORIGINAL-URL:https://www.stjuliansprimary.com
X-WR-CALDESC:Events for St Julians Primary School
REFRESH-INTERVAL;VALUE=DURATION:PT1H
X-Robots-Tag:noindex
X-PUBLISHED-TTL:PT1H
BEGIN:VTIMEZONE
TZID:Europe/London
BEGIN:DAYLIGHT
TZOFFSETFROM:+0000
TZOFFSETTO:+0100
TZNAME:BST
DTSTART:20180325T010000
END:DAYLIGHT
BEGIN:STANDARD
TZOFFSETFROM:+0100
TZOFFSETTO:+0000
TZNAME:GMT
DTSTART:20181028T010000
END:STANDARD
BEGIN:DAYLIGHT
TZOFFSETFROM:+0000
TZOFFSETTO:+0100
TZNAME:BST
DTSTART:20190331T010000
END:DAYLIGHT
BEGIN:STANDARD
TZOFFSETFROM:+0100
TZOFFSETTO:+0000
TZNAME:GMT
DTSTART:20191027T010000
END:STANDARD
BEGIN:DAYLIGHT
TZOFFSETFROM:+0000
TZOFFSETTO:+0100
TZNAME:BST
DTSTART:20200329T010000
END:DAYLIGHT
BEGIN:STANDARD
TZOFFSETFROM:+0100
TZOFFSETTO:+0000
TZNAME:GMT
DTSTART:20201025T010000
END:STANDARD
END:VTIMEZONE
BEGIN:VEVENT
DTSTART;VALUE=DATE:20190722
DTEND;VALUE=DATE:20190723
DTSTAMP:20260423T021643
CREATED:20190305T091221Z
LAST-MODIFIED:20190305T091221Z
UID:15308-1563753600-1563839999@www.stjuliansprimary.com
SUMMARY:Staff Training Day
DESCRIPTION:School closed to pupils as staff are receiving training.
URL:https://www.stjuliansprimary.com/event/staff-training-day-8/
LOCATION:St Julian’s Primary School\, Beaufort Road\, Newport\, NP197UB\, United Kingdom
END:VEVENT
BEGIN:VEVENT
DTSTART;VALUE=DATE:20190722
DTEND;VALUE=DATE:20190723
DTSTAMP:20260423T021643
CREATED:20180730T104415Z
LAST-MODIFIED:20190305T095734Z
UID:13745-1563753600-1563839999@www.stjuliansprimary.com
SUMMARY:Official Last day of Summer Term
DESCRIPTION:Official last day of Summer Term – Pupils not in school. Staff Training Day
URL:https://www.stjuliansprimary.com/event/last-day-of-summer-term/
LOCATION:St Julian’s Primary School\, Beaufort Road\, Newport\, NP197UB\, United Kingdom
END:VEVENT
BEGIN:VEVENT
DTSTART;TZID=Europe/London:20190710T183000
DTEND;TZID=Europe/London:20190710T200000
DTSTAMP:20260423T021643
CREATED:20190416T100032Z
LAST-MODIFIED:20190416T100032Z
UID:15627-1562783400-1562788800@www.stjuliansprimary.com
SUMMARY:Year 5 and 6 Summer Concert
DESCRIPTION:Year 5 and 6 pupils will perform their Summer Concert during the evening
URL:https://www.stjuliansprimary.com/event/year-5-and-6-summer-concert/
LOCATION:St Julian’s Primary School\, Beaufort Road\, Newport\, NP197UB\, United Kingdom
END:VEVENT
BEGIN:VEVENT
DTSTART;TZID=Europe/London:20190709T183000
DTEND;TZID=Europe/London:20190709T200000
DTSTAMP:20260423T021643
CREATED:20190416T095845Z
LAST-MODIFIED:20190416T095845Z
UID:15624-1562697000-1562702400@www.stjuliansprimary.com
SUMMARY:Year 5 &6 Summer Concert
DESCRIPTION:Year 5 and 6 pupils will perform their Summer Concert during the evening
URL:https://www.stjuliansprimary.com/event/year-5-6-summer-concert/
LOCATION:St Julian’s Primary School\, Beaufort Road\, Newport\, NP197UB\, United Kingdom
END:VEVENT
BEGIN:VEVENT
DTSTART;TZID=Europe/London:20190705T142000
DTEND;TZID=Europe/London:20190705T151000
DTSTAMP:20260423T021643
CREATED:20190412T070455Z
LAST-MODIFIED:20190412T070455Z
UID:15617-1562336400-1562339400@www.stjuliansprimary.com
SUMMARY:Year 2's Chocolate bar launch
DESCRIPTION:The golden ticket invites year 2 parents to come and taste their child’s wonderful chocolate creations. \nYear 2 will be showcasing their chocolate bars that they designed and created. Parents will have the opportunity to look at their child’s work for the project and taste the chocolate bar they have created. \nPlease come to the classroom door for 2.20pm.
URL:https://www.stjuliansprimary.com/event/year-2s-chocolate-bar-launch/
END:VEVENT
BEGIN:VEVENT
DTSTART;TZID=Europe/London:20190705T093000
DTEND;TZID=Europe/London:20190705T150000
DTSTAMP:20260423T021643
CREATED:20190416T100844Z
LAST-MODIFIED:20190416T100844Z
UID:15630-1562319000-1562338800@www.stjuliansprimary.com
SUMMARY:Year 4 visit to RNLI
DESCRIPTION:Year 4 will be visiting the RNLI in Barry. They will be learning how to stay safe near and in the water and will be involved in three workshops throughout the day.
URL:https://www.stjuliansprimary.com/event/year-4-visit-to-rnli/
LOCATION:RNLI Barry\, Paget Road\, Cardiff\, CF62 5TQ\, United Kingdom
END:VEVENT
BEGIN:VEVENT
DTSTART;TZID=Europe/London:20190702T090000
DTEND;TZID=Europe/London:20190702T150000
DTSTAMP:20260423T021643
CREATED:20190620T144336Z
LAST-MODIFIED:20190620T144336Z
UID:15889-1562058000-1562079600@www.stjuliansprimary.com
SUMMARY:Y3 trip to St Fagans National Museum of History
DESCRIPTION:Year 3 will be visiting St Fagans after winning a competition for the – Spring Bulbs for Schools Investigation!  The children will be involved in a range of nature based activities.
URL:https://www.stjuliansprimary.com/event/y3-trip-to-st-fagans-national-museum-of-history/
LOCATION:st fagans\, Cathays Park\, Cardiff\, CF10 3NP\, United Kingdom
END:VEVENT
BEGIN:VEVENT
DTSTART;VALUE=DATE:20190628
DTEND;VALUE=DATE:20190629
DTSTAMP:20260423T021643
CREATED:20190305T084608Z
LAST-MODIFIED:20190305T090727Z
UID:15290-1561680000-1561766399@www.stjuliansprimary.com
SUMMARY:AM and PM Nursery Sports Day
DESCRIPTION:Parents are invited to join us for the Nursery Sports Day\, in the Nursery Garden. This is a provisional date and may need to be changed depending on the weather forecast.  AM Nursery 9:30 a.m. and PM Nursery 1:15 p.m.
URL:https://www.stjuliansprimary.com/event/am-and-pm-nursery-sports-day/
LOCATION:St. Julian’s Primary School\, Beaufort Road\, Newport\, NP19 7UB\, United Kingdom
END:VEVENT
BEGIN:VEVENT
DTSTART;TZID=Europe/London:20190621T131500
DTEND;TZID=Europe/London:20190621T151500
DTSTAMP:20260423T021643
CREATED:20190305T090526Z
LAST-MODIFIED:20190305T090526Z
UID:15302-1561122900-1561130100@www.stjuliansprimary.com
SUMMARY:Year 5 and Year 6 Sports Day 1:15pm
DESCRIPTION:Parents are invited to join us for Year 5 and Year 6’s Sports Day on the school field.  This is a provisional date and may need to be changed depending on the weather forecast.
URL:https://www.stjuliansprimary.com/event/year-5-and-year-6-sports-day-115pm/
LOCATION:St. Julian’s Primary School\, Beaufort Road\, Newport\, NP19 7UB\, United Kingdom
END:VEVENT
BEGIN:VEVENT
DTSTART;TZID=Europe/London:20190614T131500
DTEND;TZID=Europe/London:20190614T151500
DTSTAMP:20260423T021643
CREATED:20190305T090428Z
LAST-MODIFIED:20190305T090428Z
UID:15299-1560518100-1560525300@www.stjuliansprimary.com
SUMMARY:Year 3 and Year 4 Sports Day 1:15pm
DESCRIPTION:Parents are invited to join us for Year 3 and Year 4’s Sports Day on the school field.  This is a provisional date and may need to be changed depending on the weather forecast.
URL:https://www.stjuliansprimary.com/event/year-3-and-year-4-sports-day-115pm/
LOCATION:St Julian’s Primary School\, Beaufort Road\, Newport\, NP197UB\, United Kingdom
END:VEVENT
BEGIN:VEVENT
DTSTART;TZID=Europe/London:20190607T133000
DTEND;TZID=Europe/London:20190607T150000
DTSTAMP:20260423T021643
CREATED:20190305T090313Z
LAST-MODIFIED:20190305T090313Z
UID:15296-1559914200-1559919600@www.stjuliansprimary.com
SUMMARY:Year 1 and 2 Sports Day 1:30pm
DESCRIPTION:Parents are invited to join us for Year 1 and Year 2’s Sports Day on the school field.  This is a provisional date and may need to be changed depending on the weather forecast.
URL:https://www.stjuliansprimary.com/event/year-1-and-2-sports-day-130pm/
LOCATION:St Julian’s Primary School\, Beaufort Road\, Newport\, NP197UB\, United Kingdom
END:VEVENT
BEGIN:VEVENT
DTSTART;VALUE=DATE:20190603
DTEND;VALUE=DATE:20190604
DTSTAMP:20260423T021643
CREATED:20190305T090940Z
LAST-MODIFIED:20190305T090940Z
UID:15305-1559520000-1559606399@www.stjuliansprimary.com
SUMMARY:Staff Training Day
DESCRIPTION:School closed to pupils as staff are receiving training.
URL:https://www.stjuliansprimary.com/event/staff-training-day-7/
LOCATION:St Julian’s Primary School\, Beaufort Road\, Newport\, NP197UB\, United Kingdom
END:VEVENT
BEGIN:VEVENT
DTSTART;VALUE=DATE:20190527
DTEND;VALUE=DATE:20190601
DTSTAMP:20260423T021643
CREATED:20180730T104209Z
LAST-MODIFIED:20180730T104239Z
UID:13742-1558915200-1559347199@www.stjuliansprimary.com
SUMMARY:Summer Half-Term
DESCRIPTION:School closed for half-term break.
URL:https://www.stjuliansprimary.com/event/summer-half-term/
LOCATION:St Julian’s Primary School\, Beaufort Road\, Newport\, NP197UB\, United Kingdom
END:VEVENT
BEGIN:VEVENT
DTSTART;TZID=Europe/London:20190522T133000
DTEND;TZID=Europe/London:20190522T150000
DTSTAMP:20260423T021643
CREATED:20190305T090134Z
LAST-MODIFIED:20190305T090134Z
UID:15293-1558531800-1558537200@www.stjuliansprimary.com
SUMMARY:Reception Sports Day 1:30pm
DESCRIPTION:Parents are invited to join us for Reception Sports Day on the school field.  This is a provisional date and may need to be changed depending on the weather forecast.
URL:https://www.stjuliansprimary.com/event/reception-sports-day-130pm/
LOCATION:St. Julian’s Primary School\, Beaufort Road\, Newport\, NP19 7UB\, United Kingdom
END:VEVENT
BEGIN:VEVENT
DTSTART;TZID=Europe/London:20190521T093000
DTEND;TZID=Europe/London:20190521T113000
DTSTAMP:20260423T021643
CREATED:20190305T094849Z
LAST-MODIFIED:20190305T094849Z
UID:15318-1558431000-1558438200@www.stjuliansprimary.com
SUMMARY:Pizza Express trip Y4RHP/BD
DESCRIPTION:The children will be involved in making their own pizzas and tasting a range of ingredients.
URL:https://www.stjuliansprimary.com/event/pizza-express-trip-y4rhp-bd/
LOCATION:pizza express\, Spytty Road\, np19 4qq\, United Kingdom
END:VEVENT
BEGIN:VEVENT
DTSTART;TZID=Europe/London:20190521T091500
DTEND;TZID=Europe/London:20190521T144500
DTSTAMP:20260423T021643
CREATED:20190412T070309Z
LAST-MODIFIED:20190412T070128Z
UID:15614-1558430100-1558449900@www.stjuliansprimary.com
SUMMARY:Year 2's trip to Cardiff museum
DESCRIPTION:Year 2 will be visiting Cardiff museum to explore everything they have learnt about Space\, Birds and Dinosaurs. \nThe coach will leave at 9.15am. \nAll children will need a packed lunch\,
URL:https://www.stjuliansprimary.com/event/year-2s-trip-to-cardiff-museum/
END:VEVENT
BEGIN:VEVENT
DTSTART;TZID=Europe/London:20190517T093000
DTEND;TZID=Europe/London:20190517T130000
DTSTAMP:20260423T021643
CREATED:20190416T095404Z
LAST-MODIFIED:20190416T095404Z
UID:15621-1558085400-1558098000@www.stjuliansprimary.com
SUMMARY:Y3 Beechwood park visit
DESCRIPTION:Y3 pupils will walk to Beechwood Park and have the opportunity to take a tour around Beechwood House.  Please provide your child with a packed lunch as they will be eating their lunch in the park (fingers crossed for dry weather).
URL:https://www.stjuliansprimary.com/event/y3-beechwood-park-visit/
LOCATION:Beechwood Park\, Christchurch Road\, Newport\, NP19 8AJ\, United Kingdom
END:VEVENT
BEGIN:VEVENT
DTSTART;VALUE=DATE:20190429
DTEND;VALUE=DATE:20190430
DTSTAMP:20260423T021643
CREATED:20180730T103426Z
LAST-MODIFIED:20180730T103426Z
UID:13739-1556496000-1556582399@www.stjuliansprimary.com
SUMMARY:Summer Term Begins
DESCRIPTION:Pupils return to school for Summer term.
URL:https://www.stjuliansprimary.com/event/summer-term-begins-2/
LOCATION:St Julian’s Primary School\, Beaufort Road\, Newport\, NP197UB\, United Kingdom
END:VEVENT
BEGIN:VEVENT
DTSTART;VALUE=DATE:20190412
DTEND;VALUE=DATE:20190413
DTSTAMP:20260423T021643
CREATED:20190213T090045Z
LAST-MODIFIED:20190213T090045Z
UID:15245-1555027200-1555113599@www.stjuliansprimary.com
SUMMARY:Staff Training Day
DESCRIPTION:School closed to pupils as staff are receiving training.
URL:https://www.stjuliansprimary.com/event/staff-training-day-6/
END:VEVENT
BEGIN:VEVENT
DTSTART;VALUE=DATE:20190412
DTEND;VALUE=DATE:20190413
DTSTAMP:20260423T021643
CREATED:20180730T103234Z
LAST-MODIFIED:20190305T095254Z
UID:13735-1555027200-1555113599@www.stjuliansprimary.com
SUMMARY:Official End of Spring Term
DESCRIPTION:Official last day of Easter Term. Pupils not in today – Staff Training Day.
URL:https://www.stjuliansprimary.com/event/end-of-spring-term/
LOCATION:St Julian’s Primary School\, Beaufort Road\, Newport\, NP197UB\, United Kingdom
END:VEVENT
BEGIN:VEVENT
DTSTART;VALUE=DATE:20190411
DTEND;VALUE=DATE:20190412
DTSTAMP:20260423T021643
CREATED:20190219T100447Z
LAST-MODIFIED:20190219T100824Z
UID:15256-1554940800-1555027199@www.stjuliansprimary.com
SUMMARY:Easter Assembly
DESCRIPTION:In order to celebrate Easter\, we will have an Easter bonnet parade for all of our Foundation Phase children on Thursday 11th April. Please could children bring in their Easter bonnets on that day and there will be a winner for the best bonnet in each class.  At Key Stage Two\, we will have a decorated Easter egg competition (hard boiled eggs or blown only). Please could children bring in their entries on Thursday 11th April and there will be a winner in each class.
URL:https://www.stjuliansprimary.com/event/easter-assembly-2/
LOCATION:St. Julian’s Primary School\, Beaufort Road\, Newport\, NP19 7UB\, United Kingdom
END:VEVENT
BEGIN:VEVENT
DTSTART;TZID=Europe/London:20190402T091500
DTEND;TZID=Europe/London:20190402T144500
DTSTAMP:20260423T021643
CREATED:20190121T120949Z
LAST-MODIFIED:20190121T120949Z
UID:15117-1554196500-1554216300@www.stjuliansprimary.com
SUMMARY:Reception trip to Bristol Zoo
DESCRIPTION:Reception children will have the opportunity to explore the zoo for their topic ‘At the Zoo.’
URL:https://www.stjuliansprimary.com/event/reception-trip-to-bristol-zoo/
END:VEVENT
BEGIN:VEVENT
DTSTART;TZID=Europe/London:20190402T090000
DTEND;TZID=Europe/London:20190402T113000
DTSTAMP:20260423T021643
CREATED:20190305T094805Z
LAST-MODIFIED:20190305T094805Z
UID:15315-1554195600-1554204600@www.stjuliansprimary.com
SUMMARY:Pizza Express trip Y4HH
DESCRIPTION:The children will be involved in making their own pizzas and tasting a range of ingredients.
URL:https://www.stjuliansprimary.com/event/pizza-express-trip-y4hh/
LOCATION:pizza express\, Spytty Road\, np19 4qq\, United Kingdom
END:VEVENT
BEGIN:VEVENT
DTSTART;TZID=Europe/London:20190329T091500
DTEND;TZID=Europe/London:20190329T150000
DTSTAMP:20260423T021643
CREATED:20190322T101733Z
LAST-MODIFIED:20190322T101733Z
UID:15489-1553850900-1553871600@www.stjuliansprimary.com
SUMMARY:Year 1 trip to Mountain View Ranch
DESCRIPTION:Year 1 children have the opportunity to visit the Caerphilly Mountain View Ranch to continue their theme of Julia Donaldson. Children will be able to walk the Gruffalo trail\, build dens and hear a story around a camp fire.
URL:https://www.stjuliansprimary.com/event/year-1-trip-to-mountain-view-ranch-2/
LOCATION:Mountain View Ranch\, Heol Penybryn Caerphilly Mountain\, Caerphilly\, CF83 1NG\, United Kingdom
END:VEVENT
BEGIN:VEVENT
DTSTART;TZID=Europe/London:20190327T141500
DTEND;TZID=Europe/London:20190327T150000
DTSTAMP:20260423T021643
CREATED:20181217T143611Z
LAST-MODIFIED:20181217T143611Z
UID:15073-1553696100-1553698800@www.stjuliansprimary.com
SUMMARY:Reception Numeracy workshop
DESCRIPTION:This is an opportunity for Reception families to come in and work alongside their children. We will be exploring ways to support the development of Numeracy skills at home. We look forward to seeing you all this afternoon.
URL:https://www.stjuliansprimary.com/event/reception-numeracy-workshop-2/
LOCATION:St Julian’s Primary School\, Beaufort Road\, Newport\, NP197UB\, United Kingdom
END:VEVENT
BEGIN:VEVENT
DTSTART;TZID=Europe/London:20190326T090000
DTEND;TZID=Europe/London:20190326T110000
DTSTAMP:20260423T021643
CREATED:20190305T094328Z
LAST-MODIFIED:20190305T094328Z
UID:15311-1553590800-1553598000@www.stjuliansprimary.com
SUMMARY:Pizza Express trip Y4ES
DESCRIPTION:The children will be involved in making their own pizzas and tasting a range of ingredients.
URL:https://www.stjuliansprimary.com/event/pizza-express-trip-y4es/
LOCATION:pizza express\, Spytty Road\, np19 4qq\, United Kingdom
END:VEVENT
BEGIN:VEVENT
DTSTART;TZID=Europe/London:20190321T141500
DTEND;TZID=Europe/London:20190321T150000
DTSTAMP:20260423T021643
CREATED:20181217T143453Z
LAST-MODIFIED:20181217T143453Z
UID:15070-1553177700-1553180400@www.stjuliansprimary.com
SUMMARY:Year 1 Numeracy workshop
DESCRIPTION:This is an opportunity for Year 1 families to come in and work alongside their children. We will be exploring ways to support the development of Numeracy skills at home. We look forward to seeing you all this afternoon.
URL:https://www.stjuliansprimary.com/event/year-1-numeracy-workshop-2/
LOCATION:St Julian’s Primary School\, Beaufort Road\, Newport\, NP197UB\, United Kingdom
END:VEVENT
BEGIN:VEVENT
DTSTART;TZID=Europe/London:20190314T091500
DTEND;TZID=Europe/London:20190314T144500
DTSTAMP:20260423T021643
CREATED:20190121T121225Z
LAST-MODIFIED:20190121T121225Z
UID:15120-1552554900-1552574700@www.stjuliansprimary.com
SUMMARY:Year 1 trip to Mountain View Ranch
DESCRIPTION:Year 1 children have the opportunity to visit the Caerphilly Mountain View Ranch to continue their theme of Julia Donaldson. Children will be able to walk the Gruffalo trail\, build dens and hear a story around a camp fire.
URL:https://www.stjuliansprimary.com/event/year-1-trip-to-mountain-view-ranch/
END:VEVENT
BEGIN:VEVENT
DTSTART;TZID=Europe/London:20190313T022000
DTEND;TZID=Europe/London:20190313T151000
DTSTAMP:20260423T021643
CREATED:20190116T143338Z
LAST-MODIFIED:20190116T143338Z
UID:15106-1552443600-1552489800@www.stjuliansprimary.com
SUMMARY:Year 2 Numeracy Workshop
DESCRIPTION:This is an opportunity for Year 2 families to come in and work alongside their children. We will be exploring ways to support the development of Numeracy skills at home. We look forward to seeing you all this afternoon.
URL:https://www.stjuliansprimary.com/event/year-2-numeracy-workshop-3/
END:VEVENT
BEGIN:VEVENT
DTSTART;VALUE=DATE:20190307
DTEND;VALUE=DATE:20190308
DTSTAMP:20260423T021643
CREATED:20190304T201903Z
LAST-MODIFIED:20190304T201903Z
UID:15277-1551916800-1552003199@www.stjuliansprimary.com
SUMMARY:World Book Day
DESCRIPTION:Pupils can come to school dressed as their favourite book character.
URL:https://www.stjuliansprimary.com/event/world-book-day-2/
LOCATION:St. Julian’s Primary School\, Beaufort Road\, Newport\, NP19 7UB\, United Kingdom
ORGANIZER;CN="St. Julian's Primary School":MAILTO:stjulians.primary@newport.gov.uk
END:VEVENT
END:VCALENDAR