BEGIN:VCALENDAR
VERSION:2.0
PRODID:-//St Julians Primary School - ECPv6.15.20//NONSGML v1.0//EN
CALSCALE:GREGORIAN
METHOD:PUBLISH
X-ORIGINAL-URL:https://www.stjuliansprimary.com
X-WR-CALDESC:Events for St Julians Primary School
REFRESH-INTERVAL;VALUE=DURATION:PT1H
X-Robots-Tag:noindex
X-PUBLISHED-TTL:PT1H
BEGIN:VTIMEZONE
TZID:Europe/London
BEGIN:DAYLIGHT
TZOFFSETFROM:+0000
TZOFFSETTO:+0100
TZNAME:BST
DTSTART:20170326T010000
END:DAYLIGHT
BEGIN:STANDARD
TZOFFSETFROM:+0100
TZOFFSETTO:+0000
TZNAME:GMT
DTSTART:20171029T010000
END:STANDARD
BEGIN:DAYLIGHT
TZOFFSETFROM:+0000
TZOFFSETTO:+0100
TZNAME:BST
DTSTART:20180325T010000
END:DAYLIGHT
BEGIN:STANDARD
TZOFFSETFROM:+0100
TZOFFSETTO:+0000
TZNAME:GMT
DTSTART:20181028T010000
END:STANDARD
BEGIN:DAYLIGHT
TZOFFSETFROM:+0000
TZOFFSETTO:+0100
TZNAME:BST
DTSTART:20190331T010000
END:DAYLIGHT
BEGIN:STANDARD
TZOFFSETFROM:+0100
TZOFFSETTO:+0000
TZNAME:GMT
DTSTART:20191027T010000
END:STANDARD
END:VTIMEZONE
BEGIN:VEVENT
DTSTART;VALUE=DATE:20181011
DTEND;VALUE=DATE:20181012
DTSTAMP:20260424T050822
CREATED:20180917T164959Z
LAST-MODIFIED:20180923T110400Z
UID:13835-1539216000-1539302399@www.stjuliansprimary.com
SUMMARY:Y4 Trip to Llancaiach Fawr
DESCRIPTION:Pupils in Y4 will visit Llancaiach Fawr Manor House as part of their theme. \nThey must wear school uniform and bring a packed lunch. See ParentPay for more information.
URL:https://www.stjuliansprimary.com/event/y4-trip-to-llancaiach-fawr/
LOCATION:Llancaiach Fawr Manor House\, Trelewis\, Newport\, CF46 6ER\, United Kingdom
ORGANIZER;CN="St. Julian's Primary School":MAILTO:stjulians.primary@newport.gov.uk
END:VEVENT
BEGIN:VEVENT
DTSTART;TZID=Europe/London:20181010T130000
DTEND;TZID=Europe/London:20181010T130000
DTSTAMP:20260424T050822
CREATED:20181010T094534Z
LAST-MODIFIED:20181010T094534Z
UID:14415-1539176400-1539176400@www.stjuliansprimary.com
SUMMARY:Y1 - Visit from Tesco
DESCRIPTION:Tesco will be visiting Year 1 in school to talk about bread and wheat for their theme Truly Scrumptious!
URL:https://www.stjuliansprimary.com/event/y1-visit-from-tesco/
END:VEVENT
BEGIN:VEVENT
DTSTART;TZID=Europe/London:20181004T153000
DTEND;TZID=Europe/London:20181004T180000
DTSTAMP:20260424T050822
CREATED:20180923T110303Z
LAST-MODIFIED:20180923T110303Z
UID:13907-1538667000-1538676000@www.stjuliansprimary.com
SUMMARY:Parent Consultation Evening
DESCRIPTION:Parents are invited to book a 10-minute appointment to meet with their child’s teacher.
URL:https://www.stjuliansprimary.com/event/parent-consultation-evening-3/
LOCATION:St. Julian’s Primary School\, Beaufort Road\, Newport\, NP19 7UB\, United Kingdom
ORGANIZER;CN="St. Julian's Primary School":MAILTO:stjulians.primary@newport.gov.uk
END:VEVENT
BEGIN:VEVENT
DTSTART;TZID=Europe/London:20181003T153000
DTEND;TZID=Europe/London:20181003T180000
DTSTAMP:20260424T050822
CREATED:20180923T110106Z
LAST-MODIFIED:20180923T110209Z
UID:13903-1538580600-1538589600@www.stjuliansprimary.com
SUMMARY:Parent Consultation Evening
DESCRIPTION:Parents are invited to book a 10-minute appointment to meet with their child’s teacher.
URL:https://www.stjuliansprimary.com/event/parent-consultation-evening-2/
LOCATION:St. Julian’s Primary School\, Beaufort Road\, Newport\, NP19 7UB\, United Kingdom
ORGANIZER;CN="St. Julian's Primary School":MAILTO:stjulians.primary@newport.gov.uk
END:VEVENT
BEGIN:VEVENT
DTSTART;TZID=Europe/London:20181002T153000
DTEND;TZID=Europe/London:20181002T163000
DTSTAMP:20260424T050822
CREATED:20180930T172122Z
LAST-MODIFIED:20180930T172122Z
UID:13953-1538494200-1538497800@www.stjuliansprimary.com
SUMMARY:PTA Meeting
DESCRIPTION:PTA meeting will be held in Foundation Phase hall. We will discuss Christmas activities. All parents welcome to attend. We would love to see new members.
URL:https://www.stjuliansprimary.com/event/pta-meeting-2/
LOCATION:St Julian’s Primary School\, Beaufort Road\, Newport\, NP197UB\, United Kingdom
ORGANIZER;CN="St. Julian's Primary School":MAILTO:stjulians.primary@newport.gov.uk
END:VEVENT
BEGIN:VEVENT
DTSTART;TZID=Europe/London:20180928T080000
DTEND;TZID=Europe/London:20180928T170000
DTSTAMP:20260424T050822
CREATED:20180925T110623Z
LAST-MODIFIED:20180925T110623Z
UID:13926-1538121600-1538154000@www.stjuliansprimary.com
SUMMARY:Tennis taster sessions for Year 1 and Year 2
DESCRIPTION:
URL:https://www.stjuliansprimary.com/event/tennis-taster-sessions-for-year-1-and-year-2/
END:VEVENT
BEGIN:VEVENT
DTSTART;VALUE=DATE:20180927
DTEND;VALUE=DATE:20180929
DTSTAMP:20260424T050822
CREATED:20180928T085100Z
LAST-MODIFIED:20180928T085131Z
UID:13940-1538006400-1538179199@www.stjuliansprimary.com
SUMMARY:Influenza Vaccines
DESCRIPTION:Foundation Phase (Reception to Year 2) – Thursday \nKey Stage 2 – Friday \n*pupils must have returned the consent form otherwise they will not be given the vaccine. The vaccine is in the form of a nasal spray.
URL:https://www.stjuliansprimary.com/event/influenza-vaccines/
LOCATION:St. Julian’s Primary School\, Beaufort Road\, Newport\, NP19 7UB\, United Kingdom
ORGANIZER;CN="St. Julian's Primary School":MAILTO:stjulians.primary@newport.gov.uk
END:VEVENT
BEGIN:VEVENT
DTSTART;TZID=Europe/London:20180920T130000
DTEND;TZID=Europe/London:20180920T140000
DTSTAMP:20260424T050822
CREATED:20180919T182601Z
LAST-MODIFIED:20180919T182601Z
UID:13885-1537448400-1537452000@www.stjuliansprimary.com
SUMMARY:Harvest Assembly
DESCRIPTION:We would be grateful if pupils could bring Tins of food for the assembly\, which will be donated to the Raven’s House Trust to feed people in need across Newport.
URL:https://www.stjuliansprimary.com/event/harvest-assembly/
LOCATION:St. Julian’s Primary School\, Beaufort Road\, Newport\, NP19 7UB\, United Kingdom
ORGANIZER;CN="St. Julian's Primary School":MAILTO:stjulians.primary@newport.gov.uk
END:VEVENT
BEGIN:VEVENT
DTSTART;VALUE=DATE:20180904
DTEND;VALUE=DATE:20180905
DTSTAMP:20260424T050822
CREATED:20180730T102559Z
LAST-MODIFIED:20180801T164344Z
UID:13720-1536019200-1536105599@www.stjuliansprimary.com
SUMMARY:Start of Autumn Term
DESCRIPTION:Pupils Return to School following Summer Break.
URL:https://www.stjuliansprimary.com/event/start-of-autumn-term/
END:VEVENT
BEGIN:VEVENT
DTSTART;VALUE=DATE:20180903
DTEND;VALUE=DATE:20180904
DTSTAMP:20260424T050822
CREATED:20180730T102419Z
LAST-MODIFIED:20180730T102419Z
UID:13717-1535932800-1536019199@www.stjuliansprimary.com
SUMMARY:Staff Training Day
DESCRIPTION:Today is a staff training day. School closed to pupils.
URL:https://www.stjuliansprimary.com/event/staff-training-day-2/
LOCATION:St Julian’s Primary School\, Beaufort Road\, Newport\, NP197UB\, United Kingdom
END:VEVENT
BEGIN:VEVENT
DTSTART;VALUE=DATE:20180723
DTEND;VALUE=DATE:20180725
DTSTAMP:20260424T050822
CREATED:20180210T111453Z
LAST-MODIFIED:20180210T111453Z
UID:11668-1532304000-1532476799@www.stjuliansprimary.com
SUMMARY:Staff Training Day
DESCRIPTION:Staff Training Day – School closed to pupils
URL:https://www.stjuliansprimary.com/event/staff-training-day-4/
LOCATION:St. Julian’s Primary School\, Beaufort Road\, Newport\, NP19 7UB\, United Kingdom
END:VEVENT
BEGIN:VEVENT
DTSTART;TZID=Europe/London:20180720T133000
DTEND;TZID=Europe/London:20180720T150000
DTSTAMP:20260424T050822
CREATED:20180210T112103Z
LAST-MODIFIED:20180210T112119Z
UID:11670-1532093400-1532098800@www.stjuliansprimary.com
SUMMARY:Y6 Graduation Ceremony
DESCRIPTION:Pupils in Y6 have their Graduation ceremony this afternoon. Mr Mansfield and the Year 6 teachers will reflect on their time at St. Julian’s Primary with lots of photographs and happy memories! Parents and grandparents will be invited. If you wish to come\, you’ll need to register using the online form which will be sent out two weeks before.
URL:https://www.stjuliansprimary.com/event/y6-graduation-ceremony/
LOCATION:St. Julian’s Primary School\, Beaufort Road\, Newport\, NP19 7UB\, United Kingdom
END:VEVENT
BEGIN:VEVENT
DTSTART;VALUE=DATE:20180720
DTEND;VALUE=DATE:20180721
DTSTAMP:20260424T050822
CREATED:20180605T183952Z
LAST-MODIFIED:20180605T183952Z
UID:13326-1532044800-1532131199@www.stjuliansprimary.com
SUMMARY:Last Day of Summer Term for Pupils
DESCRIPTION:Last day of Summer Term for Pupils.
URL:https://www.stjuliansprimary.com/event/last-day-of-summer-term-for-pupils/
LOCATION:St. Julian’s Primary School\, Beaufort Road\, Newport\, NP19 7UB\, United Kingdom
END:VEVENT
BEGIN:VEVENT
DTSTART;TZID=Europe/London:20180718T143000
DTEND;TZID=Europe/London:20180718T151000
DTSTAMP:20260424T050822
CREATED:20180626T122642Z
LAST-MODIFIED:20180626T122642Z
UID:13537-1531924200-1531926600@www.stjuliansprimary.com
SUMMARY:Year 1 Pirate Party
DESCRIPTION:To celebrate the end of an amazing year\, Year 1 children are inviting their families to attend a Pirate Party in our Forest School area.
URL:https://www.stjuliansprimary.com/event/year-1-pirate-party/
LOCATION:St Julian’s Primary School\, Beaufort Road\, Newport\, NP197UB\, United Kingdom
END:VEVENT
BEGIN:VEVENT
DTSTART;TZID=Europe/London:20180718T093000
DTEND;TZID=Europe/London:20180718T130000
DTSTAMP:20260424T050822
CREATED:20180708T201319Z
LAST-MODIFIED:20180708T201319Z
UID:13656-1531906200-1531918800@www.stjuliansprimary.com
SUMMARY:Year 3 - Beechwood Park trip
DESCRIPTION:Year 3 will be walking to Beechwood Park and visiting Beechwood House.  Please make sure sun cream is applied\, sunhats are worn and your child brings a bottle of water.  We are looking forward to eating a picnic in the park (please remember to bring a packed lunch).
URL:https://www.stjuliansprimary.com/event/year-3-beechwood-park-trip/
LOCATION:Beechwood Park\, Christchurch Road\, Newport\, NP19 8AJ\, United Kingdom
END:VEVENT
BEGIN:VEVENT
DTSTART;TZID=Europe/London:20180717T143000
DTEND;TZID=Europe/London:20180717T151000
DTSTAMP:20260424T050822
CREATED:20180626T192823Z
LAST-MODIFIED:20180704T205129Z
UID:13572-1531837800-1531840200@www.stjuliansprimary.com
SUMMARY:Reception Mad Hatters' Tea Party
DESCRIPTION:To celebrate the end of an amazing year\, Reception children are inviting their families to attend their Mad Hatters’ Tea Party in our Forest School area.
URL:https://www.stjuliansprimary.com/event/reception-mad-hatters-tea-party/
LOCATION:St Julian’s Primary School\, Beaufort Road\, Newport\, NP197UB\, United Kingdom
END:VEVENT
BEGIN:VEVENT
DTSTART;TZID=Europe/London:20180716T143000
DTEND;TZID=Europe/London:20180716T151000
DTSTAMP:20260424T050822
CREATED:20180627T091228Z
LAST-MODIFIED:20180627T091228Z
UID:13589-1531751400-1531753800@www.stjuliansprimary.com
SUMMARY:Year 2 Chocolate bar launch
DESCRIPTION:Year 2 are learning about Roald Dahl this term and reading ‘Charlie and the Chocolate Factory.’ We are creating our own amazing chocolate bars. We are inviting parents to come along and see the children’s advertising campaigns and taste their marvellous creations. You will receive a ‘golden ticket’ to attend.
URL:https://www.stjuliansprimary.com/event/year-2-chocolate-bar-launch/
END:VEVENT
BEGIN:VEVENT
DTSTART;TZID=Europe/London:20180713T140000
DTEND;TZID=Europe/London:20180713T150000
DTSTAMP:20260424T050822
CREATED:20180628T085926Z
LAST-MODIFIED:20180628T085926Z
UID:13610-1531490400-1531494000@www.stjuliansprimary.com
SUMMARY:Year 4 'All Aboard' event
DESCRIPTION:Year 4 would like to share the work they have produced during the Summer Term.  Year 4 pupils are inviting their families to attend this event and share the adverts they have created.  We look forward to seeing you.
URL:https://www.stjuliansprimary.com/event/year-4-all-aboard-event/
LOCATION:St. Julian’s Primary School\, Beaufort Road\, Newport\, NP19 7UB\, United Kingdom
END:VEVENT
BEGIN:VEVENT
DTSTART;TZID=Europe/London:20180713T080000
DTEND;TZID=Europe/London:20180715T170000
DTSTAMP:20260424T050822
CREATED:20170928T205954Z
LAST-MODIFIED:20170928T210033Z
UID:10005-1531468800-1531674000@www.stjuliansprimary.com
SUMMARY:Y6 Residential in Llangrannog Urdd Centre
DESCRIPTION:Year 6 pupils have the opportunity to visit Llangrannog for the weekend to take part in a range of activities.
URL:https://www.stjuliansprimary.com/event/y6-residential-in-llangrannog-urdd-centre/
LOCATION:Llangrannog Urdd Centre\, Llangrannog\, Ceredigion\, SA44 6AE\, United Kingdom
END:VEVENT
BEGIN:VEVENT
DTSTART;TZID=Europe/London:20180711T183000
DTEND;TZID=Europe/London:20180711T200000
DTSTAMP:20260424T050822
CREATED:20170928T210330Z
LAST-MODIFIED:20170928T210330Z
UID:10010-1531333800-1531339200@www.stjuliansprimary.com
SUMMARY:Year 5&6 Summer Concert
DESCRIPTION:Year 5 and 6 pupils will perform their Summer Concert for Parents and family
URL:https://www.stjuliansprimary.com/event/year-56-summer-concert-2/
LOCATION:St. Julian’s Primary School\, Beaufort Road\, Newport\, NP19 7UB\, United Kingdom
END:VEVENT
BEGIN:VEVENT
DTSTART;TZID=Europe/London:20180710T183000
DTEND;TZID=Europe/London:20180710T200000
DTSTAMP:20260424T050822
CREATED:20170928T210222Z
LAST-MODIFIED:20170928T210636Z
UID:10008-1531247400-1531252800@www.stjuliansprimary.com
SUMMARY:Year 5&6 Summer Concert
DESCRIPTION:Year 5 and 6 pupils will perform their Summer Concert for Parents and family
URL:https://www.stjuliansprimary.com/event/year-56-summer-concert/
LOCATION:St. Julian’s Primary School\, Beaufort Road\, Newport\, NP19 7UB\, United Kingdom
END:VEVENT
BEGIN:VEVENT
DTSTART;VALUE=DATE:20180705
DTEND;VALUE=DATE:20180706
DTSTAMP:20260424T050822
CREATED:20180404T160258Z
LAST-MODIFIED:20180404T160258Z
UID:12834-1530748800-1530835199@www.stjuliansprimary.com
SUMMARY:AM + PM Nursery Sports Day
DESCRIPTION:Parents are invited to join us for Year 5&6’s Sports Day on the school field. This is a provisional date and may need to be changed depending on Weather forecast. We will let parents know if the date is changed. \nAM – Nursery – 9.30 a.m. \nPM Nursery – 1.15 p.m.
URL:https://www.stjuliansprimary.com/event/am-pm-nursery-sports-day/
LOCATION:St. Julian’s Primary School\, Beaufort Road\, Newport\, NP19 7UB\, United Kingdom
END:VEVENT
BEGIN:VEVENT
DTSTART;VALUE=DATE:20180705
DTEND;VALUE=DATE:20180707
DTSTAMP:20260424T050822
CREATED:20170928T204821Z
LAST-MODIFIED:20180730T102036Z
UID:10002-1530748800-1530921599@www.stjuliansprimary.com
SUMMARY:Y6 Transition Days at St. Julian's High
DESCRIPTION:Pupils in Y6 will spend these days at St. Julian’s High School to help with the transition from primary to secondary school.
URL:https://www.stjuliansprimary.com/event/y6-transition-days-at-st-julians-high/
LOCATION:St. Julian’s High School\, Heather Rd\, Newport\, NP19 7XU\, United Kingdom
END:VEVENT
BEGIN:VEVENT
DTSTART;TZID=Europe/London:20180703T100000
DTEND;TZID=Europe/London:20180703T150000
DTSTAMP:20260424T050822
CREATED:20180627T092418Z
LAST-MODIFIED:20180627T092418Z
UID:13591-1530612000-1530630000@www.stjuliansprimary.com
SUMMARY:Commonwealth Games Day
DESCRIPTION:The Foundation Phase will be taking part in a range of sporting activities throughout the day. Children are to wear PE kits to school. Your child will need a hat\, sunglasses and a water bottle. Please apply sun cream before they come to school as we will be outside most of the day.
URL:https://www.stjuliansprimary.com/event/commonwealth-games-day/
END:VEVENT
BEGIN:VEVENT
DTSTART;VALUE=DATE:20180626
DTEND;VALUE=DATE:20180627
DTSTAMP:20260424T050822
CREATED:20180607T073223Z
LAST-MODIFIED:20180607T073223Z
UID:13338-1529971200-1530057599@www.stjuliansprimary.com
SUMMARY:Y5 Careers Day
DESCRIPTION:Y5 Pupils will listen to a number of visitors from a range of different professions\, talk about their jobs. We want to inspire pupils to have high aspirations for themselves and encourage them to begin to think about their future.
URL:https://www.stjuliansprimary.com/event/y5-careers-day/
END:VEVENT
BEGIN:VEVENT
DTSTART;VALUE=DATE:20180623
DTEND;VALUE=DATE:20180624
DTSTAMP:20260424T050822
CREATED:20180611T151815Z
LAST-MODIFIED:20180611T151826Z
UID:13352-1529712000-1529798399@www.stjuliansprimary.com
SUMMARY:Gwyl Plant Festival
DESCRIPTION:Pupils will take part in the Gwyl Plant Festival.
URL:https://www.stjuliansprimary.com/event/gwyl-plant-festival/
LOCATION:St. Julian’s Primary School\, Beaufort Road\, Newport\, NP19 7UB\, United Kingdom
END:VEVENT
BEGIN:VEVENT
DTSTART;TZID=Europe/London:20180618T133000
DTEND;TZID=Europe/London:20180618T150000
DTSTAMP:20260424T050822
CREATED:20180404T155357Z
LAST-MODIFIED:20180521T101339Z
UID:12832-1529328600-1529334000@www.stjuliansprimary.com
SUMMARY:Year 5&6 Sports Day
DESCRIPTION:Parents are invited to join us for Year 5&6’s Sports Day on the school field. This is a provisional date and may need to be changed depending on Weather forecast. We will let parents know if the date is changed.
URL:https://www.stjuliansprimary.com/event/year-56-sports-day/
LOCATION:St. Julian’s Primary School\, Beaufort Road\, Newport\, NP19 7UB\, United Kingdom
END:VEVENT
BEGIN:VEVENT
DTSTART;VALUE=DATE:20180615
DTEND;VALUE=DATE:20180616
DTSTAMP:20260424T050822
CREATED:20180607T072919Z
LAST-MODIFIED:20180607T072919Z
UID:13336-1529020800-1529107199@www.stjuliansprimary.com
SUMMARY:Athletics Tournament
DESCRIPTION:Newport Schools Athletics Tournament
URL:https://www.stjuliansprimary.com/event/athletics-tournament/
END:VEVENT
BEGIN:VEVENT
DTSTART;TZID=Europe/London:20180614T090000
DTEND;TZID=Europe/London:20180614T100000
DTSTAMP:20260424T050822
CREATED:20180607T072545Z
LAST-MODIFIED:20180607T072625Z
UID:13331-1528966800-1528970400@www.stjuliansprimary.com
SUMMARY:Y6 Class Photographs
DESCRIPTION:Y6 Pupils will have their photograph taken in their classes.
URL:https://www.stjuliansprimary.com/event/y6-class-photographs/
LOCATION:St. Julian’s Primary School\, Beaufort Road\, Newport\, NP19 7UB\, United Kingdom
END:VEVENT
BEGIN:VEVENT
DTSTART;VALUE=DATE:20180609
DTEND;VALUE=DATE:20180610
DTSTAMP:20260424T050822
CREATED:20180607T072751Z
LAST-MODIFIED:20180607T072751Z
UID:13334-1528502400-1528588799@www.stjuliansprimary.com
SUMMARY:Y6 Race Greenpower Race Day
DESCRIPTION:Y6 pupils will be entering their cars into the Greenpower Race Day at Renishaw\, Miskin. Coach will be leaving from St Julian’s Primary at 8am
URL:https://www.stjuliansprimary.com/event/y6-race-greenpower-race-day/
LOCATION:St Julian’s Primary School\, Beaufort Road\, Newport\, NP197UB\, United Kingdom
END:VEVENT
END:VCALENDAR