BEGIN:VCALENDAR
VERSION:2.0
PRODID:-//St Julians Primary School - ECPv6.15.20//NONSGML v1.0//EN
CALSCALE:GREGORIAN
METHOD:PUBLISH
X-WR-CALNAME:St Julians Primary School
X-ORIGINAL-URL:https://www.stjuliansprimary.com
X-WR-CALDESC:Events for St Julians Primary School
REFRESH-INTERVAL;VALUE=DURATION:PT1H
X-Robots-Tag:noindex
X-PUBLISHED-TTL:PT1H
BEGIN:VTIMEZONE
TZID:Europe/London
BEGIN:DAYLIGHT
TZOFFSETFROM:+0000
TZOFFSETTO:+0100
TZNAME:BST
DTSTART:20190331T010000
END:DAYLIGHT
BEGIN:STANDARD
TZOFFSETFROM:+0100
TZOFFSETTO:+0000
TZNAME:GMT
DTSTART:20191027T010000
END:STANDARD
BEGIN:DAYLIGHT
TZOFFSETFROM:+0000
TZOFFSETTO:+0100
TZNAME:BST
DTSTART:20200329T010000
END:DAYLIGHT
BEGIN:STANDARD
TZOFFSETFROM:+0100
TZOFFSETTO:+0000
TZNAME:GMT
DTSTART:20201025T010000
END:STANDARD
BEGIN:DAYLIGHT
TZOFFSETFROM:+0000
TZOFFSETTO:+0100
TZNAME:BST
DTSTART:20210328T010000
END:DAYLIGHT
BEGIN:STANDARD
TZOFFSETFROM:+0100
TZOFFSETTO:+0000
TZNAME:GMT
DTSTART:20211031T010000
END:STANDARD
BEGIN:DAYLIGHT
TZOFFSETFROM:+0000
TZOFFSETTO:+0100
TZNAME:BST
DTSTART:20220327T010000
END:DAYLIGHT
BEGIN:STANDARD
TZOFFSETFROM:+0100
TZOFFSETTO:+0000
TZNAME:GMT
DTSTART:20221030T010000
END:STANDARD
BEGIN:DAYLIGHT
TZOFFSETFROM:+0000
TZOFFSETTO:+0100
TZNAME:BST
DTSTART:20230326T010000
END:DAYLIGHT
BEGIN:STANDARD
TZOFFSETFROM:+0100
TZOFFSETTO:+0000
TZNAME:GMT
DTSTART:20231029T010000
END:STANDARD
END:VTIMEZONE
BEGIN:VEVENT
DTSTART;VALUE=DATE:20220427
DTEND;VALUE=DATE:20220428
DTSTAMP:20260419T202450
CREATED:20220404T125108Z
LAST-MODIFIED:20220404T125339Z
UID:19399-1651017600-1651103999@www.stjuliansprimary.com
SUMMARY:Start of Summer Term
DESCRIPTION:Children return to school for the Summer Term. \nApril Rising 3 children begin
URL:https://www.stjuliansprimary.com/event/start-of-summer-term/
LOCATION:St. Julian’s Primary School\, Beaufort Road\, Newport\, NP19 7UB\, United Kingdom
END:VEVENT
BEGIN:VEVENT
DTSTART;VALUE=DATE:20220425
DTEND;VALUE=DATE:20220427
DTSTAMP:20260419T202450
CREATED:20220404T125018Z
LAST-MODIFIED:20220404T125018Z
UID:19397-1650844800-1651017599@www.stjuliansprimary.com
SUMMARY:Staff Training Days
DESCRIPTION:School closed to pupils as staff take part in professional learning activities
URL:https://www.stjuliansprimary.com/event/staff-training-days-2/
LOCATION:St. Julian’s Primary School\, Beaufort Road\, Newport\, NP19 7UB\, United Kingdom
END:VEVENT
BEGIN:VEVENT
DTSTART;VALUE=DATE:20220411
DTEND;VALUE=DATE:20220423
DTSTAMP:20260419T202450
CREATED:20210902T133932Z
LAST-MODIFIED:20210902T133932Z
UID:18678-1649635200-1650671999@www.stjuliansprimary.com
SUMMARY:Easter Holidays
DESCRIPTION:
URL:https://www.stjuliansprimary.com/event/easter-holidays/
LOCATION:St. Julian’s Primary School\, Beaufort Road\, Newport\, NP19 7UB\, United Kingdom
END:VEVENT
BEGIN:VEVENT
DTSTART;VALUE=DATE:20220221
DTEND;VALUE=DATE:20220226
DTSTAMP:20260419T202450
CREATED:20210902T133835Z
LAST-MODIFIED:20210902T133835Z
UID:18676-1645401600-1645833599@www.stjuliansprimary.com
SUMMARY:Half Term
DESCRIPTION:
URL:https://www.stjuliansprimary.com/event/half-term-7/
LOCATION:St Julian’s Primary School\, Beaufort Road\, Newport\, NP197UB\, United Kingdom
END:VEVENT
BEGIN:VEVENT
DTSTART;VALUE=DATE:20220104
DTEND;VALUE=DATE:20220106
DTSTAMP:20260419T202450
CREATED:20210902T133742Z
LAST-MODIFIED:20220126T105457Z
UID:18674-1641254400-1641427199@www.stjuliansprimary.com
SUMMARY:Covid Preparation Days
DESCRIPTION:
URL:https://www.stjuliansprimary.com/event/covid-preparation-days/
LOCATION:St. Julian’s Primary School\, Beaufort Road\, Newport\, NP19 7UB\, United Kingdom
END:VEVENT
BEGIN:VEVENT
DTSTART;VALUE=DATE:20211220
DTEND;VALUE=DATE:20220104
DTSTAMP:20260419T202450
CREATED:20210902T133640Z
LAST-MODIFIED:20210902T133640Z
UID:18672-1639958400-1641254399@www.stjuliansprimary.com
SUMMARY:Christmas Holidays
DESCRIPTION:
URL:https://www.stjuliansprimary.com/event/christmas-holidays/
LOCATION:St. Julian’s Primary School\, Beaufort Road\, Newport\, NP19 7UB\, United Kingdom
END:VEVENT
BEGIN:VEVENT
DTSTART;VALUE=DATE:20211025
DTEND;VALUE=DATE:20211030
DTSTAMP:20260419T202450
CREATED:20210902T133106Z
LAST-MODIFIED:20210902T133106Z
UID:18670-1635120000-1635551999@www.stjuliansprimary.com
SUMMARY:Half Term
DESCRIPTION:
URL:https://www.stjuliansprimary.com/event/half-term-6/
LOCATION:St Julian’s Primary School\, Beaufort Road\, Newport\, NP197UB\, United Kingdom
END:VEVENT
BEGIN:VEVENT
DTSTART;VALUE=DATE:20211012
DTEND;VALUE=DATE:20211014
DTSTAMP:20260419T202450
CREATED:20210912T185058Z
LAST-MODIFIED:20210912T185246Z
UID:18709-1633996800-1634169599@www.stjuliansprimary.com
SUMMARY:KS2 Parents' Evenings
DESCRIPTION:10-Minute parent/teacher consultation meetings for children in Key-Stage 2 – Y3-Y6. You will be sent an online booking form prior to this event taking place.
URL:https://www.stjuliansprimary.com/event/ks2-parents-evenings/
LOCATION:St. Julian’s Primary School\, Beaufort Road\, Newport\, NP19 7UB\, United Kingdom
END:VEVENT
BEGIN:VEVENT
DTSTART;VALUE=DATE:20211005
DTEND;VALUE=DATE:20211007
DTSTAMP:20260419T202450
CREATED:20210912T184736Z
LAST-MODIFIED:20210912T184948Z
UID:18707-1633392000-1633564799@www.stjuliansprimary.com
SUMMARY:FP Parents' Evenings
DESCRIPTION:10-Minute parent/teacher consultation meetings for children in Foundation Phase – R-Y2. You will be sent an online booking form prior to this event taking place.
URL:https://www.stjuliansprimary.com/event/fp-parents-evenings/
LOCATION:St. Julian’s Primary School\, Beaufort Road\, Newport\, NP19 7UB\, United Kingdom
END:VEVENT
BEGIN:VEVENT
DTSTART;VALUE=DATE:20210913
DTEND;VALUE=DATE:20210914
DTSTAMP:20260419T202450
CREATED:20210902T134401Z
LAST-MODIFIED:20210902T134401Z
UID:18689-1631491200-1631577599@www.stjuliansprimary.com
SUMMARY:Individual/Sibling Photographs
DESCRIPTION:
URL:https://www.stjuliansprimary.com/event/individual-sibling-photographs/
LOCATION:St. Julian’s Primary School\, Beaufort Road\, Newport\, NP19 7UB\, United Kingdom
END:VEVENT
BEGIN:VEVENT
DTSTART;VALUE=DATE:20210906
DTEND;VALUE=DATE:20210907
DTSTAMP:20260419T202450
CREATED:20210706T122714Z
LAST-MODIFIED:20210706T122714Z
UID:18625-1630886400-1630972799@www.stjuliansprimary.com
SUMMARY:Pupils Return to School
DESCRIPTION:Pupils return to school. \nExisting Rising 3 nursery children will attend nursery for their usual morning or afternoon sessions throughout this week. \nNew nursery pupils will attend school for one morning or afternoon session between Monday 6th – Thursday 9th and then they will attend again for the same session on Friday. \nPupils in Reception will return for half-day sessions for this week. You should have already booked your child’s sessions via our online booking system during July. (See Previous Letter). If you haven’t already done this\, please email the school office. \nPupils in Year 1 – Year 6 will return today as usual for their usual times.
URL:https://www.stjuliansprimary.com/event/pupils-return-to-school-3/
LOCATION:St. Julian’s Primary School\, Beaufort Road\, Newport\, NP19 7UB\, United Kingdom
END:VEVENT
BEGIN:VEVENT
DTSTART;VALUE=DATE:20210903
DTEND;VALUE=DATE:20210904
DTSTAMP:20260419T202450
CREATED:20210902T132905Z
LAST-MODIFIED:20210902T132905Z
UID:18667-1630627200-1630713599@www.stjuliansprimary.com
SUMMARY:Training Day
DESCRIPTION:Training day – School closed to pupils
URL:https://www.stjuliansprimary.com/event/training-day-6/
LOCATION:St. Julian’s Primary School\, Beaufort Road\, Newport\, NP19 7UB\, United Kingdom
END:VEVENT
BEGIN:VEVENT
DTSTART;VALUE=DATE:20210902
DTEND;VALUE=DATE:20210903
DTSTAMP:20260419T202450
CREATED:20210902T132748Z
LAST-MODIFIED:20210902T132748Z
UID:18665-1630540800-1630627199@www.stjuliansprimary.com
SUMMARY:Training Day
DESCRIPTION:Training day – School closed to pupils
URL:https://www.stjuliansprimary.com/event/training-day-5/
LOCATION:St. Julian’s Primary School\, Beaufort Road\, Newport\, NP19 7UB\, United Kingdom
END:VEVENT
BEGIN:VEVENT
DTSTART;VALUE=DATE:20210902
DTEND;VALUE=DATE:20210904
DTSTAMP:20260419T202450
CREATED:20210706T120925Z
LAST-MODIFIED:20210706T120925Z
UID:18622-1630540800-1630713599@www.stjuliansprimary.com
SUMMARY:Staff Training Days
DESCRIPTION:Staff Training Days – School closed to pupils
URL:https://www.stjuliansprimary.com/event/staff-training-days/
LOCATION:St. Julian’s Primary School\, Beaufort Road\, Newport\, NP19 7UB\, United Kingdom
END:VEVENT
BEGIN:VEVENT
DTSTART;VALUE=DATE:20210719
DTEND;VALUE=DATE:20210721
DTSTAMP:20260419T202450
CREATED:20201103T142721Z
LAST-MODIFIED:20201103T142721Z
UID:17660-1626652800-1626825599@www.stjuliansprimary.com
SUMMARY:Training day
DESCRIPTION:School closed to pupils for staff training day
URL:https://www.stjuliansprimary.com/event/training-day-4/
LOCATION:St Julian’s Primary School\, Beaufort Road\, Newport\, NP197UB\, United Kingdom
END:VEVENT
BEGIN:VEVENT
DTSTART;VALUE=DATE:20210625
DTEND;VALUE=DATE:20210626
DTSTAMP:20260419T202450
CREATED:20210531T082249Z
LAST-MODIFIED:20210531T082249Z
UID:18528-1624579200-1624665599@www.stjuliansprimary.com
SUMMARY:Staff Training Day
DESCRIPTION:School closed to pupils for staff training day
URL:https://www.stjuliansprimary.com/event/staff-training-day-11/
LOCATION:St. Julian’s Primary School\, Beaufort Road\, Newport\, NP19 7UB\, United Kingdom
END:VEVENT
BEGIN:VEVENT
DTSTART;VALUE=DATE:20210625
DTEND;VALUE=DATE:20210626
DTSTAMP:20260419T202450
CREATED:20201103T142615Z
LAST-MODIFIED:20201103T142615Z
UID:17658-1624579200-1624665599@www.stjuliansprimary.com
SUMMARY:Training day
DESCRIPTION:School closed to pupils for staff training day
URL:https://www.stjuliansprimary.com/event/training-day-3/
LOCATION:St Julian’s Primary School\, Beaufort Road\, Newport\, NP197UB\, United Kingdom
END:VEVENT
BEGIN:VEVENT
DTSTART;VALUE=DATE:20210607
DTEND;VALUE=DATE:20210608
DTSTAMP:20260419T202450
CREATED:20210531T082206Z
LAST-MODIFIED:20210531T082206Z
UID:18526-1623024000-1623110399@www.stjuliansprimary.com
SUMMARY:Staff Training Day
DESCRIPTION:School closed to pupils.
URL:https://www.stjuliansprimary.com/event/staff-training-day-10/
LOCATION:St. Julian’s Primary School\, Beaufort Road\, Newport\, NP19 7UB\, United Kingdom
END:VEVENT
BEGIN:VEVENT
DTSTART;VALUE=DATE:20210607
DTEND;VALUE=DATE:20210608
DTSTAMP:20260419T202450
CREATED:20210427T120541Z
LAST-MODIFIED:20210427T120541Z
UID:18402-1623024000-1623110399@www.stjuliansprimary.com
SUMMARY:Training Day
DESCRIPTION:Training day
URL:https://www.stjuliansprimary.com/event/training-day-2/
LOCATION:St Julian’s Primary School\, Beaufort Road\, Newport\, NP197UB\, United Kingdom
END:VEVENT
BEGIN:VEVENT
DTSTART;VALUE=DATE:20210412
DTEND;VALUE=DATE:20210413
DTSTAMP:20260419T202450
CREATED:20210411T212345Z
LAST-MODIFIED:20210411T215812Z
UID:18383-1618185600-1618271999@www.stjuliansprimary.com
SUMMARY:Summer Term A Begins
DESCRIPTION:Children return to school following Easter break. \nApril Rising 3 nursery children begin.
URL:https://www.stjuliansprimary.com/event/summer-term-a-begins/
LOCATION:St. Julian’s Primary School\, Beaufort Road\, Newport\, NP19 7UB\, United Kingdom
END:VEVENT
BEGIN:VEVENT
DTSTART;VALUE=DATE:20210319
DTEND;VALUE=DATE:20210320
DTSTAMP:20260419T202450
CREATED:20210307T215228Z
LAST-MODIFIED:20210307T215228Z
UID:18342-1616112000-1616198399@www.stjuliansprimary.com
SUMMARY:Red Nose Day
DESCRIPTION:Children can donate £1 to wear non-uniform to school today.
URL:https://www.stjuliansprimary.com/event/red-nose-day/
LOCATION:St. Julian’s Primary School\, Beaufort Road\, Newport\, NP19 7UB\, United Kingdom
END:VEVENT
BEGIN:VEVENT
DTSTART;VALUE=DATE:20210315
DTEND;VALUE=DATE:20210316
DTSTAMP:20260419T202450
CREATED:20210307T093838Z
LAST-MODIFIED:20210307T093901Z
UID:18338-1615766400-1615852799@www.stjuliansprimary.com
SUMMARY:KS2 Pupils Return
DESCRIPTION:KS2 pupils (Years 3-6) return to school following period of lockdown. \n 
URL:https://www.stjuliansprimary.com/event/ks2-pupils-return/
LOCATION:St. Julian’s Primary School\, Beaufort Road\, Newport\, NP19 7UB\, United Kingdom
END:VEVENT
BEGIN:VEVENT
DTSTART;VALUE=DATE:20210304
DTEND;VALUE=DATE:20210305
DTSTAMP:20260419T202450
CREATED:20210307T094515Z
LAST-MODIFIED:20210307T094527Z
UID:18340-1614816000-1614902399@www.stjuliansprimary.com
SUMMARY:World Book Day
DESCRIPTION:Whether learning from home or in school\, we’d encourage all children to dress up as their favourite book characters.
URL:https://www.stjuliansprimary.com/event/world-book-day-4/
LOCATION:St. Julian’s Primary School\, Beaufort Road\, Newport\, NP19 7UB\, United Kingdom
END:VEVENT
BEGIN:VEVENT
DTSTART;VALUE=DATE:20210224
DTEND;VALUE=DATE:20210225
DTSTAMP:20260419T202450
CREATED:20210212T213300Z
LAST-MODIFIED:20210212T213300Z
UID:18290-1614124800-1614211199@www.stjuliansprimary.com
SUMMARY:January Rising 3 pupils start
DESCRIPTION:January Rising 3 pupils start school for reduced sessions Wednesday and Thursday. They will begin full sessions on Friday.
URL:https://www.stjuliansprimary.com/event/january-rising-3-pupils-start/
LOCATION:St. Julian’s Primary School\, Beaufort Road\, Newport\, NP19 7UB\, United Kingdom
END:VEVENT
BEGIN:VEVENT
DTSTART;VALUE=DATE:20210223
DTEND;VALUE=DATE:20210224
DTSTAMP:20260419T202450
CREATED:20210212T213109Z
LAST-MODIFIED:20210212T213152Z
UID:18287-1614038400-1614124799@www.stjuliansprimary.com
SUMMARY:Foundation Phase Pupils return to school
DESCRIPTION:Only Foundation Phase pupils (Nursery-Year 2) will return to school today. All classes must follow their staggered timings. \nRising 3 nursery children return Wednesday \nSee letter sent to parents – 12/2/2021 – for further information
URL:https://www.stjuliansprimary.com/event/foundation-phase-pupils-return-to-school/
LOCATION:St. Julian’s Primary School\, Beaufort Road\, Newport\, NP19 7UB\, United Kingdom
END:VEVENT
BEGIN:VEVENT
DTSTART;VALUE=DATE:20210222
DTEND;VALUE=DATE:20210223
DTSTAMP:20260419T202450
CREATED:20210212T212954Z
LAST-MODIFIED:20210212T212954Z
UID:18285-1613952000-1614038399@www.stjuliansprimary.com
SUMMARY:Start of Spring Term B
DESCRIPTION:Preparation day for Foundation Phase teachers\, though they will continue to set home-learning for children. \nHome Learning will continue for Key Stage 2 pupils. \nHub still available for children of Critical Workers who have been attending the hub last half-term.
URL:https://www.stjuliansprimary.com/event/start-of-spring-term-b/
LOCATION:St. Julian’s Primary School\, Beaufort Road\, Newport\, NP19 7UB\, United Kingdom
END:VEVENT
BEGIN:VEVENT
DTSTART;VALUE=DATE:20210215
DTEND;VALUE=DATE:20210220
DTSTAMP:20260419T202450
CREATED:20210212T222321Z
LAST-MODIFIED:20210212T225735Z
UID:18308-1613347200-1613779199@www.stjuliansprimary.com
SUMMARY:Half-Term Break
DESCRIPTION:
URL:https://www.stjuliansprimary.com/event/half-term-break/
LOCATION:St. Julian’s Primary School\, Beaufort Road\, Newport\, NP19 7UB\, United Kingdom
END:VEVENT
BEGIN:VEVENT
DTSTART;VALUE=DATE:20210105
DTEND;VALUE=DATE:20210109
DTSTAMP:20260419T202450
CREATED:20201224T203748Z
LAST-MODIFIED:20201224T203806Z
UID:18182-1609804800-1610150399@www.stjuliansprimary.com
SUMMARY:Blended/Home Learning
DESCRIPTION:Teachers will provide home-learning activities this week. All schools in Newport will remain closed to children due to the Covid19 virus rise in cases.
URL:https://www.stjuliansprimary.com/event/blended-home-learning/
LOCATION:St Julian’s Primary School\, Beaufort Road\, Newport\, NP197UB\, United Kingdom
END:VEVENT
BEGIN:VEVENT
DTSTART;VALUE=DATE:20210104
DTEND;VALUE=DATE:20210105
DTSTAMP:20260419T202450
CREATED:20201103T141917Z
LAST-MODIFIED:20201103T141917Z
UID:17652-1609718400-1609804799@www.stjuliansprimary.com
SUMMARY:Training Day
DESCRIPTION:School closed to pupils for staff training day
URL:https://www.stjuliansprimary.com/event/training-day/
LOCATION:St Julian’s Primary School\, Beaufort Road\, Newport\, NP197UB\, United Kingdom
END:VEVENT
BEGIN:VEVENT
DTSTART;VALUE=DATE:20201217
DTEND;VALUE=DATE:20201219
DTSTAMP:20260419T202450
CREATED:20201211T223337Z
LAST-MODIFIED:20201211T223337Z
UID:18109-1608163200-1608335999@www.stjuliansprimary.com
SUMMARY:School Closed - Blended/Home Learning
DESCRIPTION:Newport Council have made the decision for primary schools to move to a blended/learning approach for the final two days of the Autumn Term. See Letters to Parents page for more information.
URL:https://www.stjuliansprimary.com/event/school-closed-blended-home-learning/
END:VEVENT
END:VCALENDAR