BEGIN:VCALENDAR
VERSION:2.0
PRODID:-//St Julians Primary School - ECPv6.15.20//NONSGML v1.0//EN
CALSCALE:GREGORIAN
METHOD:PUBLISH
X-WR-CALNAME:St Julians Primary School
X-ORIGINAL-URL:https://www.stjuliansprimary.com
X-WR-CALDESC:Events for St Julians Primary School
REFRESH-INTERVAL;VALUE=DURATION:PT1H
X-Robots-Tag:noindex
X-PUBLISHED-TTL:PT1H
BEGIN:VTIMEZONE
TZID:Europe/London
BEGIN:DAYLIGHT
TZOFFSETFROM:+0000
TZOFFSETTO:+0100
TZNAME:BST
DTSTART:20170326T010000
END:DAYLIGHT
BEGIN:STANDARD
TZOFFSETFROM:+0100
TZOFFSETTO:+0000
TZNAME:GMT
DTSTART:20171029T010000
END:STANDARD
BEGIN:DAYLIGHT
TZOFFSETFROM:+0000
TZOFFSETTO:+0100
TZNAME:BST
DTSTART:20180325T010000
END:DAYLIGHT
BEGIN:STANDARD
TZOFFSETFROM:+0100
TZOFFSETTO:+0000
TZNAME:GMT
DTSTART:20181028T010000
END:STANDARD
BEGIN:DAYLIGHT
TZOFFSETFROM:+0000
TZOFFSETTO:+0100
TZNAME:BST
DTSTART:20190331T010000
END:DAYLIGHT
BEGIN:STANDARD
TZOFFSETFROM:+0100
TZOFFSETTO:+0000
TZNAME:GMT
DTSTART:20191027T010000
END:STANDARD
END:VTIMEZONE
BEGIN:VEVENT
DTSTART;VALUE=DATE:20180416
DTEND;VALUE=DATE:20180417
DTSTAMP:20260424T111038
CREATED:20171001T180605Z
LAST-MODIFIED:20171001T181228Z
UID:10100-1523836800-1523923199@www.stjuliansprimary.com
SUMMARY:Summer Term Begins
DESCRIPTION:
URL:https://www.stjuliansprimary.com/event/summer-term-begins/
LOCATION:St. Julian’s Primary School\, Beaufort Road\, Newport\, NP19 7UB\, United Kingdom
END:VEVENT
BEGIN:VEVENT
DTSTART;VALUE=DATE:20180330
DTEND;VALUE=DATE:20180414
DTSTAMP:20260424T111038
CREATED:20180101T213012Z
LAST-MODIFIED:20180101T213012Z
UID:11072-1522368000-1523663999@www.stjuliansprimary.com
SUMMARY:Easter Holiday
DESCRIPTION:School closed for Easter break
URL:https://www.stjuliansprimary.com/event/easter-holiday/
LOCATION:St. Julian’s Primary School\, Beaufort Road\, Newport\, NP19 7UB\, United Kingdom
END:VEVENT
BEGIN:VEVENT
DTSTART;TZID=Europe/London:20180329T140000
DTEND;TZID=Europe/London:20180329T160000
DTSTAMP:20260424T111038
CREATED:20171220T160652Z
LAST-MODIFIED:20171220T160652Z
UID:11039-1522332000-1522339200@www.stjuliansprimary.com
SUMMARY:Families Connect
DESCRIPTION:Selected Reception families to take part in Literacy\, Numeracy and Personal and Social sessions with Miss Welsh and Mrs Lee.
URL:https://www.stjuliansprimary.com/event/families-connect-8/
LOCATION:St Julian’s Primary School\, Beaufort Road\, Newport\, NP197UB\, United Kingdom
END:VEVENT
BEGIN:VEVENT
DTSTART;TZID=Europe/London:20180329T090000
DTEND;TZID=Europe/London:20180329T150000
DTSTAMP:20260424T111038
CREATED:20180326T091814Z
LAST-MODIFIED:20180326T091814Z
UID:12586-1522314000-1522335600@www.stjuliansprimary.com
SUMMARY:Easter Assembly
DESCRIPTION:We can’t wait to see all of the Easter bonnets in the Foundation Phase and the decorated eggs in Key Stage 2.
URL:https://www.stjuliansprimary.com/event/easter-assembly/
LOCATION:St Julian’s Primary School\, Beaufort Road\, Newport\, NP197UB\, United Kingdom
END:VEVENT
BEGIN:VEVENT
DTSTART;VALUE=DATE:20180329
DTEND;VALUE=DATE:20180330
DTSTAMP:20260424T111038
CREATED:20171001T180529Z
LAST-MODIFIED:20171001T180529Z
UID:10098-1522281600-1522367999@www.stjuliansprimary.com
SUMMARY:Last Day of Spring Term
DESCRIPTION:Last day before Easter Holiday
URL:https://www.stjuliansprimary.com/event/last-day-of-spring-term/
END:VEVENT
BEGIN:VEVENT
DTSTART;TZID=Europe/London:20180327T151000
DTEND;TZID=Europe/London:20180327T160000
DTSTAMP:20260424T111038
CREATED:20180227T163022Z
LAST-MODIFIED:20180227T163022Z
UID:12057-1522163400-1522166400@www.stjuliansprimary.com
SUMMARY:Year 2 Dance Programme
DESCRIPTION:
URL:https://www.stjuliansprimary.com/event/year-2-dance-programme-4/
LOCATION:St Julian’s Primary School\, Beaufort Road\, Newport\, NP197UB\, United Kingdom
END:VEVENT
BEGIN:VEVENT
DTSTART;TZID=Europe/London:20180327T093000
DTEND;TZID=Europe/London:20180327T133000
DTSTAMP:20260424T111038
CREATED:20180312T112611Z
LAST-MODIFIED:20180312T112611Z
UID:12516-1522143000-1522157400@www.stjuliansprimary.com
SUMMARY:Year 4 Boulders trip
DESCRIPTION:Year 4 will be visiting Boulders Climbing Centre as part of their Adventurers and Explorers theme.
URL:https://www.stjuliansprimary.com/event/year-4-boulders-trip/
LOCATION:Boulders Climbing Centre\, Pengam Road\,\, Cardiff\, CF24 2RZ\, United Kingdom
END:VEVENT
BEGIN:VEVENT
DTSTART;TZID=Europe/London:20180322T140000
DTEND;TZID=Europe/London:20180322T160000
DTSTAMP:20260424T111038
CREATED:20171220T160537Z
LAST-MODIFIED:20171220T160537Z
UID:11035-1521727200-1521734400@www.stjuliansprimary.com
SUMMARY:Families Connect
DESCRIPTION:Selected Reception families to take part in Literacy\, Numeracy and Personal and Social sessions with Miss Welsh and Mrs Lee.
URL:https://www.stjuliansprimary.com/event/families-connect-7/
LOCATION:St Julian’s Primary School\, Beaufort Road\, Newport\, NP197UB\, United Kingdom
END:VEVENT
BEGIN:VEVENT
DTSTART;TZID=Europe/London:20180320T151000
DTEND;TZID=Europe/London:20180320T160000
DTSTAMP:20260424T111038
CREATED:20180227T162907Z
LAST-MODIFIED:20180227T162907Z
UID:12054-1521558600-1521561600@www.stjuliansprimary.com
SUMMARY:Year 2 Dance Programme
DESCRIPTION:
URL:https://www.stjuliansprimary.com/event/year-2-dance-programme-3/
LOCATION:St Julian’s Primary School\, Beaufort Road\, Newport\, NP197UB\, United Kingdom
END:VEVENT
BEGIN:VEVENT
DTSTART;VALUE=DATE:20180320
DTEND;VALUE=DATE:20180321
DTSTAMP:20260424T111038
CREATED:20180101T212716Z
LAST-MODIFIED:20180101T212716Z
UID:11070-1521504000-1521590399@www.stjuliansprimary.com
SUMMARY:Year 1 Numeracy Workshop
DESCRIPTION:Parents of pupils in Y1 are invited to attend our Numeracy Workshop.
URL:https://www.stjuliansprimary.com/event/year-1-numeracy-workshop/
LOCATION:St. Julian’s Primary School\, Beaufort Road\, Newport\, NP19 7UB\, United Kingdom
END:VEVENT
BEGIN:VEVENT
DTSTART;TZID=Europe/London:20180315T140000
DTEND;TZID=Europe/London:20180315T160000
DTSTAMP:20260424T111038
CREATED:20171220T160442Z
LAST-MODIFIED:20171220T160442Z
UID:11033-1521122400-1521129600@www.stjuliansprimary.com
SUMMARY:Families Connect
DESCRIPTION:Selected Reception families to take part in Literacy\, Numeracy and Personal and Social sessions with Miss Welsh and Mrs Lee.
URL:https://www.stjuliansprimary.com/event/families-connect-6/
LOCATION:St Julian’s Primary School\, Beaufort Road\, Newport\, NP197UB\, United Kingdom
END:VEVENT
BEGIN:VEVENT
DTSTART;TZID=Europe/London:20180313T151000
DTEND;TZID=Europe/London:20180313T160000
DTSTAMP:20260424T111038
CREATED:20180227T162828Z
LAST-MODIFIED:20180227T162828Z
UID:12051-1520953800-1520956800@www.stjuliansprimary.com
SUMMARY:Year 2 Dance Programme
DESCRIPTION:
URL:https://www.stjuliansprimary.com/event/year-2-dance-programme-2/
LOCATION:St Julian’s Primary School\, Beaufort Road\, Newport\, NP197UB\, United Kingdom
END:VEVENT
BEGIN:VEVENT
DTSTART;TZID=Europe/London:20180313T133000
DTEND;TZID=Europe/London:20180313T153000
DTSTAMP:20260424T111038
CREATED:20180101T212450Z
LAST-MODIFIED:20180101T212450Z
UID:11068-1520947800-1520955000@www.stjuliansprimary.com
SUMMARY:Reception Numeracy Workshop
DESCRIPTION:Parents of pupils in Reception are invited to our Numeracy workshop
URL:https://www.stjuliansprimary.com/event/reception-numeracy-workshop/
LOCATION:St. Julian’s Primary School\, Beaufort Road\, Newport\, NP19 7UB\, United Kingdom
END:VEVENT
BEGIN:VEVENT
DTSTART;VALUE=DATE:20180313
DTEND;VALUE=DATE:20180314
DTSTAMP:20260424T111038
CREATED:20180205T142738Z
LAST-MODIFIED:20180205T142738Z
UID:11545-1520899200-1520985599@www.stjuliansprimary.com
SUMMARY:Year 1 - Mountain View Ranch visit
DESCRIPTION:Year 1 children have the opportunity to visit the Caerphilly Mountain View Ranch to continue their theme of Julia Donaldson. Children will be able to walk the Gruffalo trail\, build dens and hear a story around a camp fire.
URL:https://www.stjuliansprimary.com/event/year-1-mountain-view-ranch-visit/
LOCATION:Mountain View Ranch\, Heol Penybryn Caerphilly Mountain\, Caerphilly\, CF83 1NG\, United Kingdom
END:VEVENT
BEGIN:VEVENT
DTSTART;VALUE=DATE:20180309
DTEND;VALUE=DATE:20180310
DTSTAMP:20260424T111038
CREATED:20180311T221610Z
LAST-MODIFIED:20180311T221610Z
UID:12490-1520553600-1520639999@www.stjuliansprimary.com
SUMMARY:Rescheduled World Book Day 2018
DESCRIPTION:World book day was cancelled last week due to the snow. Pupils can come into school today dressed up as their favourite book character.
URL:https://www.stjuliansprimary.com/event/rescheduled-world-book-day-2018/
LOCATION:St. Julian’s Primary School\, Beaufort Road\, Newport\, NP19 7UB\, United Kingdom
END:VEVENT
BEGIN:VEVENT
DTSTART;TZID=Europe/London:20180308T140000
DTEND;TZID=Europe/London:20180308T160000
DTSTAMP:20260424T111038
CREATED:20171220T160352Z
LAST-MODIFIED:20171220T160352Z
UID:11030-1520517600-1520524800@www.stjuliansprimary.com
SUMMARY:Families Connect
DESCRIPTION:Selected Reception families to take part in Literacy\, Numeracy and Personal and Social sessions with Miss Welsh and Mrs Lee.
URL:https://www.stjuliansprimary.com/event/families-connect-5/
LOCATION:St Julian’s Primary School\, Beaufort Road\, Newport\, NP197UB\, United Kingdom
END:VEVENT
BEGIN:VEVENT
DTSTART;TZID=Europe/London:20180306T151000
DTEND;TZID=Europe/London:20180306T160000
DTSTAMP:20260424T111038
CREATED:20180227T162749Z
LAST-MODIFIED:20180227T162749Z
UID:12049-1520349000-1520352000@www.stjuliansprimary.com
SUMMARY:Year 2 Dance Programme
DESCRIPTION:
URL:https://www.stjuliansprimary.com/event/year-2-dance-programme/
LOCATION:St Julian’s Primary School\, Beaufort Road\, Newport\, NP197UB\, United Kingdom
END:VEVENT
BEGIN:VEVENT
DTSTART;TZID=Europe/London:20180306T133000
DTEND;TZID=Europe/London:20180306T153000
DTSTAMP:20260424T111038
CREATED:20180101T212311Z
LAST-MODIFIED:20180101T212311Z
UID:11066-1520343000-1520350200@www.stjuliansprimary.com
SUMMARY:Year 2 Numeracy Workshop
DESCRIPTION:Parents of pupils in Y2 are invited to our Numeracy workshop
URL:https://www.stjuliansprimary.com/event/year-2-numeracy-workshop/
LOCATION:St. Julian’s Primary School\, Beaufort Road\, Newport\, NP19 7UB\, United Kingdom
END:VEVENT
BEGIN:VEVENT
DTSTART;VALUE=DATE:20180305
DTEND;VALUE=DATE:20180306
DTSTAMP:20260424T111038
CREATED:20180311T221847Z
LAST-MODIFIED:20180311T221847Z
UID:12492-1520208000-1520294399@www.stjuliansprimary.com
SUMMARY:Rescheduled Eisteddfod 2018
DESCRIPTION:The Eisteddfod was cancelled last week due to snow. It will take place today. Pupils can wear Welsh Costumes or dress in the colours of their house. Don’t forget\, this event will be live streamed\, so you can watch from home. \n 
URL:https://www.stjuliansprimary.com/event/rescheduled-eisteddfod-2018/
LOCATION:St. Julian’s Primary School\, Beaufort Road\, Newport\, NP19 7UB\, United Kingdom
END:VEVENT
BEGIN:VEVENT
DTSTART;TZID=Europe/London:20180302T153000
DTEND;TZID=Europe/London:20180302T161500
DTSTAMP:20260424T111038
CREATED:20180130T173809Z
LAST-MODIFIED:20180130T173809Z
UID:11258-1520004600-1520007300@www.stjuliansprimary.com
SUMMARY:Year 1 - Family Irish dancing
DESCRIPTION:Year 1 children and their families can take part in an Irish dancing session in the Foundation Phase Hall.
URL:https://www.stjuliansprimary.com/event/year-1-family-irish-dancing/
LOCATION:St Julian’s Primary School\, Beaufort Road\, Newport\, NP197UB\, United Kingdom
END:VEVENT
BEGIN:VEVENT
DTSTART;VALUE=DATE:20180302
DTEND;VALUE=DATE:20180303
DTSTAMP:20260424T111038
CREATED:20180228T121412Z
LAST-MODIFIED:20180228T121412Z
UID:12078-1519948800-1520035199@www.stjuliansprimary.com
SUMMARY:World Book Day
DESCRIPTION:Pupils can dress as their favourite book characters for the day. \nYear 4 pupils who are going swimming\, please bring your World Book Day costumes in a bag – you can change into these after.
URL:https://www.stjuliansprimary.com/event/world-book-day/
LOCATION:St. Julian’s Primary School\, Beaufort Road\, Newport\, NP19 7UB\, United Kingdom
END:VEVENT
BEGIN:VEVENT
DTSTART;VALUE=DATE:20180301
DTEND;VALUE=DATE:20180302
DTSTAMP:20260424T111038
CREATED:20170928T204219Z
LAST-MODIFIED:20170928T204336Z
UID:9998-1519862400-1519948799@www.stjuliansprimary.com
SUMMARY:Eisteddfod
DESCRIPTION:Pupils from Y2-Y6 will spend the day in the hall representing their house and competing in competitions and celebrating St. David’s Day. \nThis event will be Live-Streamed. Parents will receive a link to watch this event live.
URL:https://www.stjuliansprimary.com/event/eisteddfod/
LOCATION:St. Julian’s Primary School\, Beaufort Road\, Newport\, NP19 7UB\, United Kingdom
END:VEVENT
BEGIN:VEVENT
DTSTART;VALUE=DATE:20180226
DTEND;VALUE=DATE:20180317
DTSTAMP:20260424T111038
CREATED:20180101T212159Z
LAST-MODIFIED:20180101T212159Z
UID:11064-1519603200-1521244799@www.stjuliansprimary.com
SUMMARY:Y4 Swimming Sessions
DESCRIPTION:Year 4 pupils will receive swimming lessons each morning.
URL:https://www.stjuliansprimary.com/event/y4-swimming-sessions/
END:VEVENT
BEGIN:VEVENT
DTSTART;VALUE=DATE:20180219
DTEND;VALUE=DATE:20180224
DTSTAMP:20260424T111038
CREATED:20171001T180343Z
LAST-MODIFIED:20171001T180343Z
UID:10094-1518998400-1519430399@www.stjuliansprimary.com
SUMMARY:Half Term
DESCRIPTION:School closed for half-term break
URL:https://www.stjuliansprimary.com/event/half-term/
LOCATION:St. Julian’s Primary School\, Beaufort Road\, Newport\, NP19 7UB\, United Kingdom
END:VEVENT
BEGIN:VEVENT
DTSTART;TZID=Europe/London:20180216T143000
DTEND;TZID=Europe/London:20180216T151000
DTSTAMP:20260424T111038
CREATED:20180207T081143Z
LAST-MODIFIED:20180207T081143Z
UID:11554-1518791400-1518793800@www.stjuliansprimary.com
SUMMARY:Year 1 - Room on the Broom drink tasting
DESCRIPTION:This half term\, the Year 1 topic has been ‘Julia Donaldson’ and the children have enjoyed reading and retelling lots of her stories. One of her stories we have enjoyed the most is ‘Room on the Broom.’ After reading this book\, the children have been working hard to design\, cost and make their own drinks. We would like to invite you to attend our Room on the Broom tasting session on Friday 16th February.
URL:https://www.stjuliansprimary.com/event/year-1-room-on-the-broom-drink-tasting/
LOCATION:St Julian’s Primary School\, Beaufort Road\, Newport\, NP197UB\, United Kingdom
END:VEVENT
BEGIN:VEVENT
DTSTART;TZID=Europe/London:20180215T091500
DTEND;TZID=Europe/London:20180215T144500
DTSTAMP:20260424T111038
CREATED:20180109T123226Z
LAST-MODIFIED:20180109T123226Z
UID:11106-1518686100-1518705900@www.stjuliansprimary.com
SUMMARY:Year 2 trip to Newport Wetlands
DESCRIPTION:Year 2 pupils have the opportunity to visit Newport Wetlands for a range of workshops for their ‘Soaring High and Diving Deep’ theme this term. The coach will leave at 9:15am and return by 2:45pm.
URL:https://www.stjuliansprimary.com/event/year-2-trip-to-newport-wetlands/
LOCATION:Newport Wetlands\, Nash Road\, Newport\, NP18 2BZ\, United Kingdom
END:VEVENT
BEGIN:VEVENT
DTSTART;TZID=Europe/London:20180215T090000
DTEND;TZID=Europe/London:20180215T150000
DTSTAMP:20260424T111038
CREATED:20180205T101039Z
LAST-MODIFIED:20180205T104913Z
UID:11541-1518685200-1518706800@www.stjuliansprimary.com
SUMMARY:Bristol Zoo - Rainforest workshop Year 3
DESCRIPTION:Year 3 will be visiting Bristol Zoo and taking part in a Rainforest workshop.
URL:https://www.stjuliansprimary.com/event/bristol-zoo-rainforest-workshop-year-3/
LOCATION:Bristol Zoo\, Clifton\, Bristol\, BS8 3HA\, United Kingdom
END:VEVENT
BEGIN:VEVENT
DTSTART;TZID=Europe/London:20180214T153000
DTEND;TZID=Europe/London:20180215T180000
DTSTAMP:20260424T111038
CREATED:20180101T211759Z
LAST-MODIFIED:20180101T211759Z
UID:11062-1518622200-1518717600@www.stjuliansprimary.com
SUMMARY:Parent Consultation Meetings
DESCRIPTION:Parents invited to meet with their child’s teacher to discuss progress and view their children’s work. Please book appointments using the online booking system which will be opened a fortnight before.
URL:https://www.stjuliansprimary.com/event/parent-consultation-meetings/
LOCATION:St. Julian’s Primary School\, Beaufort Road\, Newport\, NP19 7UB\, United Kingdom
END:VEVENT
BEGIN:VEVENT
DTSTART;VALUE=DATE:20180209
DTEND;VALUE=DATE:20180210
DTSTAMP:20260424T111038
CREATED:20170928T203912Z
LAST-MODIFIED:20170928T203912Z
UID:9996-1518134400-1518220799@www.stjuliansprimary.com
SUMMARY:Family Learning Together Day
DESCRIPTION:Parents of pupils in the Foundation Phase will be invited to a Family Learning event in the Beaufort Centre. There will be lots of different activities and visitors to help your child learn. Pupils will leave at the end of the day with lots of free resources and a new book.
URL:https://www.stjuliansprimary.com/event/family-learning-together-day/
LOCATION:Beaufort Centre\, Beaufort Road\, Newport\, Gwent\, NP19 7UB\, United Kingdom
END:VEVENT
BEGIN:VEVENT
DTSTART;TZID=Europe/London:20180208T140000
DTEND;TZID=Europe/London:20180208T160000
DTSTAMP:20260424T111038
CREATED:20171220T160251Z
LAST-MODIFIED:20171220T160251Z
UID:11027-1518098400-1518105600@www.stjuliansprimary.com
SUMMARY:Families Connect
DESCRIPTION:Selected Reception families to take part in Literacy\, Numeracy and Personal and Social sessions with Miss Welsh and Mrs Lee.
URL:https://www.stjuliansprimary.com/event/families-connect-4/
LOCATION:St Julian’s Primary School\, Beaufort Road\, Newport\, NP197UB\, United Kingdom
END:VEVENT
END:VCALENDAR