BEGIN:VCALENDAR
VERSION:2.0
PRODID:-//St Julians Primary School - ECPv6.15.20//NONSGML v1.0//EN
CALSCALE:GREGORIAN
METHOD:PUBLISH
X-ORIGINAL-URL:https://www.stjuliansprimary.com
X-WR-CALDESC:Events for St Julians Primary School
REFRESH-INTERVAL;VALUE=DURATION:PT1H
X-Robots-Tag:noindex
X-PUBLISHED-TTL:PT1H
BEGIN:VTIMEZONE
TZID:Europe/London
BEGIN:DAYLIGHT
TZOFFSETFROM:+0000
TZOFFSETTO:+0100
TZNAME:BST
DTSTART:20160327T010000
END:DAYLIGHT
BEGIN:STANDARD
TZOFFSETFROM:+0100
TZOFFSETTO:+0000
TZNAME:GMT
DTSTART:20161030T010000
END:STANDARD
BEGIN:DAYLIGHT
TZOFFSETFROM:+0000
TZOFFSETTO:+0100
TZNAME:BST
DTSTART:20170326T010000
END:DAYLIGHT
BEGIN:STANDARD
TZOFFSETFROM:+0100
TZOFFSETTO:+0000
TZNAME:GMT
DTSTART:20171029T010000
END:STANDARD
BEGIN:DAYLIGHT
TZOFFSETFROM:+0000
TZOFFSETTO:+0100
TZNAME:BST
DTSTART:20180325T010000
END:DAYLIGHT
BEGIN:STANDARD
TZOFFSETFROM:+0100
TZOFFSETTO:+0000
TZNAME:GMT
DTSTART:20181028T010000
END:STANDARD
BEGIN:DAYLIGHT
TZOFFSETFROM:+0000
TZOFFSETTO:+0100
TZNAME:BST
DTSTART:20190331T010000
END:DAYLIGHT
BEGIN:STANDARD
TZOFFSETFROM:+0100
TZOFFSETTO:+0000
TZNAME:GMT
DTSTART:20191027T010000
END:STANDARD
END:VTIMEZONE
BEGIN:VEVENT
DTSTART;VALUE=DATE:20180302
DTEND;VALUE=DATE:20180303
DTSTAMP:20260424T145318
CREATED:20180228T121412Z
LAST-MODIFIED:20180228T121412Z
UID:12078-1519948800-1520035199@www.stjuliansprimary.com
SUMMARY:World Book Day
DESCRIPTION:Pupils can dress as their favourite book characters for the day. \nYear 4 pupils who are going swimming\, please bring your World Book Day costumes in a bag – you can change into these after.
URL:https://www.stjuliansprimary.com/event/world-book-day/
LOCATION:St. Julian’s Primary School\, Beaufort Road\, Newport\, NP19 7UB\, United Kingdom
END:VEVENT
BEGIN:VEVENT
DTSTART;VALUE=DATE:20180301
DTEND;VALUE=DATE:20180302
DTSTAMP:20260424T145318
CREATED:20170928T204219Z
LAST-MODIFIED:20170928T204336Z
UID:9998-1519862400-1519948799@www.stjuliansprimary.com
SUMMARY:Eisteddfod
DESCRIPTION:Pupils from Y2-Y6 will spend the day in the hall representing their house and competing in competitions and celebrating St. David’s Day. \nThis event will be Live-Streamed. Parents will receive a link to watch this event live.
URL:https://www.stjuliansprimary.com/event/eisteddfod/
LOCATION:St. Julian’s Primary School\, Beaufort Road\, Newport\, NP19 7UB\, United Kingdom
END:VEVENT
BEGIN:VEVENT
DTSTART;VALUE=DATE:20180226
DTEND;VALUE=DATE:20180317
DTSTAMP:20260424T145318
CREATED:20180101T212159Z
LAST-MODIFIED:20180101T212159Z
UID:11064-1519603200-1521244799@www.stjuliansprimary.com
SUMMARY:Y4 Swimming Sessions
DESCRIPTION:Year 4 pupils will receive swimming lessons each morning.
URL:https://www.stjuliansprimary.com/event/y4-swimming-sessions/
END:VEVENT
BEGIN:VEVENT
DTSTART;VALUE=DATE:20180219
DTEND;VALUE=DATE:20180224
DTSTAMP:20260424T145318
CREATED:20171001T180343Z
LAST-MODIFIED:20171001T180343Z
UID:10094-1518998400-1519430399@www.stjuliansprimary.com
SUMMARY:Half Term
DESCRIPTION:School closed for half-term break
URL:https://www.stjuliansprimary.com/event/half-term/
LOCATION:St. Julian’s Primary School\, Beaufort Road\, Newport\, NP19 7UB\, United Kingdom
END:VEVENT
BEGIN:VEVENT
DTSTART;TZID=Europe/London:20180216T143000
DTEND;TZID=Europe/London:20180216T151000
DTSTAMP:20260424T145318
CREATED:20180207T081143Z
LAST-MODIFIED:20180207T081143Z
UID:11554-1518791400-1518793800@www.stjuliansprimary.com
SUMMARY:Year 1 - Room on the Broom drink tasting
DESCRIPTION:This half term\, the Year 1 topic has been ‘Julia Donaldson’ and the children have enjoyed reading and retelling lots of her stories. One of her stories we have enjoyed the most is ‘Room on the Broom.’ After reading this book\, the children have been working hard to design\, cost and make their own drinks. We would like to invite you to attend our Room on the Broom tasting session on Friday 16th February.
URL:https://www.stjuliansprimary.com/event/year-1-room-on-the-broom-drink-tasting/
LOCATION:St Julian’s Primary School\, Beaufort Road\, Newport\, NP197UB\, United Kingdom
END:VEVENT
BEGIN:VEVENT
DTSTART;TZID=Europe/London:20180215T091500
DTEND;TZID=Europe/London:20180215T144500
DTSTAMP:20260424T145318
CREATED:20180109T123226Z
LAST-MODIFIED:20180109T123226Z
UID:11106-1518686100-1518705900@www.stjuliansprimary.com
SUMMARY:Year 2 trip to Newport Wetlands
DESCRIPTION:Year 2 pupils have the opportunity to visit Newport Wetlands for a range of workshops for their ‘Soaring High and Diving Deep’ theme this term. The coach will leave at 9:15am and return by 2:45pm.
URL:https://www.stjuliansprimary.com/event/year-2-trip-to-newport-wetlands/
LOCATION:Newport Wetlands\, Nash Road\, Newport\, NP18 2BZ\, United Kingdom
END:VEVENT
BEGIN:VEVENT
DTSTART;TZID=Europe/London:20180215T090000
DTEND;TZID=Europe/London:20180215T150000
DTSTAMP:20260424T145318
CREATED:20180205T101039Z
LAST-MODIFIED:20180205T104913Z
UID:11541-1518685200-1518706800@www.stjuliansprimary.com
SUMMARY:Bristol Zoo - Rainforest workshop Year 3
DESCRIPTION:Year 3 will be visiting Bristol Zoo and taking part in a Rainforest workshop.
URL:https://www.stjuliansprimary.com/event/bristol-zoo-rainforest-workshop-year-3/
LOCATION:Bristol Zoo\, Clifton\, Bristol\, BS8 3HA\, United Kingdom
END:VEVENT
BEGIN:VEVENT
DTSTART;TZID=Europe/London:20180214T153000
DTEND;TZID=Europe/London:20180215T180000
DTSTAMP:20260424T145318
CREATED:20180101T211759Z
LAST-MODIFIED:20180101T211759Z
UID:11062-1518622200-1518717600@www.stjuliansprimary.com
SUMMARY:Parent Consultation Meetings
DESCRIPTION:Parents invited to meet with their child’s teacher to discuss progress and view their children’s work. Please book appointments using the online booking system which will be opened a fortnight before.
URL:https://www.stjuliansprimary.com/event/parent-consultation-meetings/
LOCATION:St. Julian’s Primary School\, Beaufort Road\, Newport\, NP19 7UB\, United Kingdom
END:VEVENT
BEGIN:VEVENT
DTSTART;VALUE=DATE:20180209
DTEND;VALUE=DATE:20180210
DTSTAMP:20260424T145318
CREATED:20170928T203912Z
LAST-MODIFIED:20170928T203912Z
UID:9996-1518134400-1518220799@www.stjuliansprimary.com
SUMMARY:Family Learning Together Day
DESCRIPTION:Parents of pupils in the Foundation Phase will be invited to a Family Learning event in the Beaufort Centre. There will be lots of different activities and visitors to help your child learn. Pupils will leave at the end of the day with lots of free resources and a new book.
URL:https://www.stjuliansprimary.com/event/family-learning-together-day/
LOCATION:Beaufort Centre\, Beaufort Road\, Newport\, Gwent\, NP19 7UB\, United Kingdom
END:VEVENT
BEGIN:VEVENT
DTSTART;TZID=Europe/London:20180208T140000
DTEND;TZID=Europe/London:20180208T160000
DTSTAMP:20260424T145318
CREATED:20171220T160251Z
LAST-MODIFIED:20171220T160251Z
UID:11027-1518098400-1518105600@www.stjuliansprimary.com
SUMMARY:Families Connect
DESCRIPTION:Selected Reception families to take part in Literacy\, Numeracy and Personal and Social sessions with Miss Welsh and Mrs Lee.
URL:https://www.stjuliansprimary.com/event/families-connect-4/
LOCATION:St Julian’s Primary School\, Beaufort Road\, Newport\, NP197UB\, United Kingdom
END:VEVENT
BEGIN:VEVENT
DTSTART;VALUE=DATE:20180206
DTEND;VALUE=DATE:20180207
DTSTAMP:20260424T145318
CREATED:20180202T185448Z
LAST-MODIFIED:20180202T185448Z
UID:11409-1517875200-1517961599@www.stjuliansprimary.com
SUMMARY:Mr Mansfield & Digital Leaders at University of South Wales
DESCRIPTION:Mr Mansfield is taking three pupils to give a lecture to Masters students at the University of South Wales.
URL:https://www.stjuliansprimary.com/event/mr-mansfield-digital-leaders-at-university-of-south-wales/
LOCATION:St. Julian’s Primary School\, Beaufort Road\, Newport\, NP19 7UB\, United Kingdom
END:VEVENT
BEGIN:VEVENT
DTSTART;VALUE=DATE:20180206
DTEND;VALUE=DATE:20180207
DTSTAMP:20260424T145318
CREATED:20180202T185118Z
LAST-MODIFIED:20180202T185118Z
UID:11407-1517875200-1517961599@www.stjuliansprimary.com
SUMMARY:Safer Internet Day
DESCRIPTION:Pupils throughout the school will take part in a range of activities to celebrate Safer Internet Day.
URL:https://www.stjuliansprimary.com/event/safer-internet-day/
LOCATION:St. Julian’s Primary School\, Beaufort Road\, Newport\, NP19 7UB\, United Kingdom
END:VEVENT
BEGIN:VEVENT
DTSTART;TZID=Europe/London:20180202T093000
DTEND;TZID=Europe/London:20180202T150000
DTSTAMP:20260424T145318
CREATED:20180102T152409Z
LAST-MODIFIED:20180102T152409Z
UID:11077-1517563800-1517583600@www.stjuliansprimary.com
SUMMARY:Y5 Diversity workshops
DESCRIPTION:Year 5 pupils will be involved in a Diversity workshop facilitated by GEMS (Gwent Education Minority Ethnic Service)
URL:https://www.stjuliansprimary.com/event/y5-diversity-workshops/
LOCATION:St. Julian’s Primary School\, Beaufort Road\, Newport\, NP19 7UB\, United Kingdom
END:VEVENT
BEGIN:VEVENT
DTSTART;TZID=Europe/London:20180201T140000
DTEND;TZID=Europe/London:20180201T160000
DTSTAMP:20260424T145318
CREATED:20171220T160209Z
LAST-MODIFIED:20171220T160209Z
UID:11024-1517493600-1517500800@www.stjuliansprimary.com
SUMMARY:Families Connect
DESCRIPTION:Selected Reception families to take part in Literacy\, Numeracy and Personal and Social sessions with Miss Welsh and Mrs Lee.
URL:https://www.stjuliansprimary.com/event/families-connect-3/
LOCATION:St Julian’s Primary School\, Beaufort Road\, Newport\, NP197UB\, United Kingdom
END:VEVENT
BEGIN:VEVENT
DTSTART;TZID=Europe/London:20180201T133000
DTEND;TZID=Europe/London:20180201T150000
DTSTAMP:20260424T145318
CREATED:20180101T211335Z
LAST-MODIFIED:20180101T211335Z
UID:11058-1517491800-1517497200@www.stjuliansprimary.com
SUMMARY:Year 3 Numeracy Workshop
DESCRIPTION:Parents of Y3 pupils invited to take part in a numeracy workshop.
URL:https://www.stjuliansprimary.com/event/year-3-numeracy-workshop/
LOCATION:St. Julian’s Primary School\, Beaufort Road\, Newport\, NP19 7UB\, United Kingdom
END:VEVENT
BEGIN:VEVENT
DTSTART;TZID=Europe/London:20180131T153000
DTEND;TZID=Europe/London:20180131T163000
DTSTAMP:20260424T145318
CREATED:20180101T210903Z
LAST-MODIFIED:20180101T210903Z
UID:11056-1517412600-1517416200@www.stjuliansprimary.com
SUMMARY:National Test Information Evening
DESCRIPTION:Parents invited to find out more about Wales National Tests that pupils from Y2-Y6 will sit in May. We will also give out practice materials for you to use at home. Please complete the online booking form in the last newsletter if you plan on attending. Childcare provided for pupils of St. Julian’s Primary. Children are not able to attend this meeting.
URL:https://www.stjuliansprimary.com/event/national-test-information-evening/
LOCATION:St. Julian’s Primary School\, Beaufort Road\, Newport\, NP19 7UB\, United Kingdom
END:VEVENT
BEGIN:VEVENT
DTSTART;TZID=Europe/London:20180129T140000
DTEND;TZID=Europe/London:20180129T150000
DTSTAMP:20260424T145318
CREATED:20180101T210549Z
LAST-MODIFIED:20180127T221806Z
UID:11053-1517234400-1517238000@www.stjuliansprimary.com
SUMMARY:Year 4 Numeracy Workshop
DESCRIPTION:Parents of Y4 pupils invited to take part in a numeracy workshop.
URL:https://www.stjuliansprimary.com/event/year-4-numeracy-workshop/
LOCATION:St. Julian’s Primary School\, Beaufort Road\, Newport\, NP19 7UB\, United Kingdom
END:VEVENT
BEGIN:VEVENT
DTSTART;TZID=Europe/London:20180126T140000
DTEND;TZID=Europe/London:20180126T150000
DTSTAMP:20260424T145318
CREATED:20180110T122645Z
LAST-MODIFIED:20180110T122645Z
UID:11118-1516975200-1516978800@www.stjuliansprimary.com
SUMMARY:Y4HH Numeracy workshop
DESCRIPTION:Parents of Y4HH pupils invited to take part in a numeracy workshop.
URL:https://www.stjuliansprimary.com/event/y4hh-numeracy-workshop/
LOCATION:St. Julian’s Primary School\, Beaufort Road\, Newport\, NP19 7UB\, United Kingdom
END:VEVENT
BEGIN:VEVENT
DTSTART;TZID=Europe/London:20180125T140000
DTEND;TZID=Europe/London:20180125T160000
DTSTAMP:20260424T145318
CREATED:20171220T160047Z
LAST-MODIFIED:20171220T160047Z
UID:11022-1516888800-1516896000@www.stjuliansprimary.com
SUMMARY:Families Connect
DESCRIPTION:Selected Reception families to take part in Literacy\, Numeracy and Personal and Social sessions with Miss Welsh and Mrs Lee.
URL:https://www.stjuliansprimary.com/event/families-connect-2/
LOCATION:St Julian’s Primary School\, Beaufort Road\, Newport\, NP197UB\, United Kingdom
END:VEVENT
BEGIN:VEVENT
DTSTART;TZID=Europe/London:20180118T140000
DTEND;TZID=Europe/London:20180118T160000
DTSTAMP:20260424T145318
CREATED:20171220T155937Z
LAST-MODIFIED:20171220T155937Z
UID:11017-1516284000-1516291200@www.stjuliansprimary.com
SUMMARY:Families Connect
DESCRIPTION:Selected Reception families to take part in Literacy\, Numeracy and Personal and Social sessions with Miss Welsh and Mrs Lee.
URL:https://www.stjuliansprimary.com/event/families-connect/
LOCATION:St Julian’s Primary School\, Beaufort Road\, Newport\, NP197UB\, United Kingdom
END:VEVENT
BEGIN:VEVENT
DTSTART;VALUE=DATE:20180109
DTEND;VALUE=DATE:20180110
DTSTAMP:20260424T145318
CREATED:20180101T210258Z
LAST-MODIFIED:20180101T211100Z
UID:11051-1515456000-1515542399@www.stjuliansprimary.com
SUMMARY:Pupils Return to School
DESCRIPTION:Pupils return to school following the Christmas break.
URL:https://www.stjuliansprimary.com/event/pupils-return-to-school-2/
LOCATION:St. Julian’s Primary School\, Beaufort Road\, Newport\, NP19 7UB\, United Kingdom
END:VEVENT
BEGIN:VEVENT
DTSTART;VALUE=DATE:20180108
DTEND;VALUE=DATE:20180109
DTSTAMP:20260424T145318
CREATED:20171129T232113Z
LAST-MODIFIED:20171129T232139Z
UID:10914-1515369600-1515455999@www.stjuliansprimary.com
SUMMARY:Staff Training Day
DESCRIPTION:Schools are required to provide teachers with 5 statutory INSET days during each school year. On these days schools are closed to pupils so that teachers may participate in training activities. Pupils will return to school on Tuesday 9th January after the Christmas break.
URL:https://www.stjuliansprimary.com/event/staff-training-day-3/
LOCATION:St. Julian’s Primary School\, Beaufort Road\, Newport\, NP19 7UB\, United Kingdom
END:VEVENT
BEGIN:VEVENT
DTSTART;TZID=Europe/London:20171222T091500
DTEND;TZID=Europe/London:20171222T111500
DTSTAMP:20260424T145318
CREATED:20171028T113343Z
LAST-MODIFIED:20171028T113343Z
UID:10457-1513934100-1513941300@www.stjuliansprimary.com
SUMMARY:Christmas Pantomime
DESCRIPTION:All pupils in the school will watch a Christmas Pantomime in the Beaufort Centre\, funded by the PTA.
URL:https://www.stjuliansprimary.com/event/christmas-pantomime/
LOCATION:Beaufort Centre\, Beaufort Road\, Newport\, Gwent\, NP19 7UB\, United Kingdom
END:VEVENT
BEGIN:VEVENT
DTSTART;VALUE=DATE:20171222
DTEND;VALUE=DATE:20171223
DTSTAMP:20260424T145318
CREATED:20171001T181802Z
LAST-MODIFIED:20171001T182146Z
UID:10102-1513900800-1513987199@www.stjuliansprimary.com
SUMMARY:Last Day of Autumn Term
DESCRIPTION:Last day of Autumn Term. School now closes for Christmas Break! Merry Christmas Everyone!
URL:https://www.stjuliansprimary.com/event/last-day-of-autumn-term/
LOCATION:St. Julian’s Primary School\, Beaufort Road\, Newport\, NP19 7UB\, United Kingdom
END:VEVENT
BEGIN:VEVENT
DTSTART;TZID=Europe/London:20171221T130000
DTEND;TZID=Europe/London:20171221T153000
DTSTAMP:20260424T145318
CREATED:20170928T203110Z
LAST-MODIFIED:20170928T203110Z
UID:9994-1513861200-1513870200@www.stjuliansprimary.com
SUMMARY:Class Christmas Parties
DESCRIPTION:Children will have Christmas parties in their classrooms
URL:https://www.stjuliansprimary.com/event/class-christmas-parties/
LOCATION:St. Julian’s Primary School\, Beaufort Road\, Newport\, NP19 7UB\, United Kingdom
END:VEVENT
BEGIN:VEVENT
DTSTART;TZID=Europe/London:20171220T180000
DTEND;TZID=Europe/London:20171220T193000
DTSTAMP:20260424T145318
CREATED:20171028T113643Z
LAST-MODIFIED:20171028T113731Z
UID:10459-1513792800-1513798200@www.stjuliansprimary.com
SUMMARY:Annual Carol Service
DESCRIPTION:Parents invited to celebrate Christmas with us in our annual Carol Service. The choirs will sing and pupils will retell the Christmas Story.
URL:https://www.stjuliansprimary.com/event/annual-carol-service/
LOCATION:St. Julian’s Baptist Chrurch\, 33 Beaufort Rd\, Newport\, NP19 7PZ\, United Kingdom
END:VEVENT
BEGIN:VEVENT
DTSTART;VALUE=DATE:20171220
DTEND;VALUE=DATE:20171221
DTSTAMP:20260424T145318
CREATED:20171028T113202Z
LAST-MODIFIED:20171028T113202Z
UID:10455-1513728000-1513814399@www.stjuliansprimary.com
SUMMARY:Nursery Rising 3s Meeting
DESCRIPTION:Parents of pupils starting nursery are invited to an information evening which will be held in the Nursery.
URL:https://www.stjuliansprimary.com/event/nursery-rising-3s-meeting/
LOCATION:St. Julian’s Primary School\, Beaufort Road\, Newport\, NP19 7UB\, United Kingdom
END:VEVENT
BEGIN:VEVENT
DTSTART;VALUE=DATE:20171219
DTEND;VALUE=DATE:20171221
DTSTAMP:20260424T145318
CREATED:20171028T113046Z
LAST-MODIFIED:20171028T113046Z
UID:10453-1513641600-1513814399@www.stjuliansprimary.com
SUMMARY:Year 3&4 Christmas Concert
DESCRIPTION:Pupils in Year 3 and Year 4 will perform their Christmas Concert. Pupils in Y3 are in the choir and pupils in Y4 will be on stage acting. Concert Starts at 13:15pm on both days.
URL:https://www.stjuliansprimary.com/event/year-34-christmas-concert/
END:VEVENT
BEGIN:VEVENT
DTSTART;TZID=Europe/London:20171215T131500
DTEND;TZID=Europe/London:20171215T141500
DTSTAMP:20260424T145318
CREATED:20171028T112912Z
LAST-MODIFIED:20171028T112926Z
UID:10451-1513343700-1513347300@www.stjuliansprimary.com
SUMMARY:Year 2 Christmas Concert
DESCRIPTION:Pupils in Y2 will perform their Christmas Concert to parents.
URL:https://www.stjuliansprimary.com/event/year-2-christmas-concert/
LOCATION:St. Julian’s Primary School\, Beaufort Road\, Newport\, NP19 7UB\, United Kingdom
END:VEVENT
BEGIN:VEVENT
DTSTART;VALUE=DATE:20171214
DTEND;VALUE=DATE:20171215
DTSTAMP:20260424T145318
CREATED:20170927T151532Z
LAST-MODIFIED:20170927T151532Z
UID:9970-1513209600-1513295999@www.stjuliansprimary.com
SUMMARY:Nursery Christmas Concert for Parents
DESCRIPTION:AM and PM Nursery will perform their Christmas Concert
URL:https://www.stjuliansprimary.com/event/nursery-christmas-concert-for-parents/
END:VEVENT
END:VCALENDAR