BEGIN:VCALENDAR
VERSION:2.0
PRODID:-//St Julians Primary School - ECPv6.15.20//NONSGML v1.0//EN
CALSCALE:GREGORIAN
METHOD:PUBLISH
X-WR-CALNAME:St Julians Primary School
X-ORIGINAL-URL:https://www.stjuliansprimary.com
X-WR-CALDESC:Events for St Julians Primary School
REFRESH-INTERVAL;VALUE=DURATION:PT1H
X-Robots-Tag:noindex
X-PUBLISHED-TTL:PT1H
BEGIN:VTIMEZONE
TZID:Europe/London
BEGIN:DAYLIGHT
TZOFFSETFROM:+0000
TZOFFSETTO:+0100
TZNAME:BST
DTSTART:20160327T010000
END:DAYLIGHT
BEGIN:STANDARD
TZOFFSETFROM:+0100
TZOFFSETTO:+0000
TZNAME:GMT
DTSTART:20161030T010000
END:STANDARD
BEGIN:DAYLIGHT
TZOFFSETFROM:+0000
TZOFFSETTO:+0100
TZNAME:BST
DTSTART:20170326T010000
END:DAYLIGHT
BEGIN:STANDARD
TZOFFSETFROM:+0100
TZOFFSETTO:+0000
TZNAME:GMT
DTSTART:20171029T010000
END:STANDARD
BEGIN:DAYLIGHT
TZOFFSETFROM:+0000
TZOFFSETTO:+0100
TZNAME:BST
DTSTART:20180325T010000
END:DAYLIGHT
BEGIN:STANDARD
TZOFFSETFROM:+0100
TZOFFSETTO:+0000
TZNAME:GMT
DTSTART:20181028T010000
END:STANDARD
END:VTIMEZONE
BEGIN:VEVENT
DTSTART;TZID=Europe/London:20171213T131500
DTEND;TZID=Europe/London:20171213T143000
DTSTAMP:20260424T201056
CREATED:20171028T112757Z
LAST-MODIFIED:20171028T112757Z
UID:10449-1513170900-1513175400@www.stjuliansprimary.com
SUMMARY:Year 1 Christmas Concert
DESCRIPTION:Pupils in Year 1 will perform their Christmas Concert for Parents.
URL:https://www.stjuliansprimary.com/event/year-1-christmas-concert/
LOCATION:Gwent
END:VEVENT
BEGIN:VEVENT
DTSTART;TZID=Europe/London:20171211T090000
DTEND;TZID=Europe/London:20171211T123000
DTSTAMP:20260424T201056
CREATED:20171124T160621Z
LAST-MODIFIED:20171124T160621Z
UID:10773-1512982800-1512995400@www.stjuliansprimary.com
SUMMARY:Year 3 Christmas story visit
DESCRIPTION:Pupils in Year 3 have been invited to visit Malpas Evangelical Church to take part in an interactive retelling of the Christmas story.
URL:https://www.stjuliansprimary.com/event/year-3-christmas-story-visit/
LOCATION:Malpas Road Evangelical Church\, Malpas Road\, Newport\, NP20 5PJ\, United Kingdom
END:VEVENT
BEGIN:VEVENT
DTSTART;VALUE=DATE:20171211
DTEND;VALUE=DATE:20171212
DTSTAMP:20260424T201056
CREATED:20170927T151154Z
LAST-MODIFIED:20170927T151154Z
UID:9968-1512950400-1513036799@www.stjuliansprimary.com
SUMMARY:Flu Immunisations for Reception-Year 4 Pupils
DESCRIPTION:Pupils in Reception to Year 4 will be offered the Flu immunisations. Parents will need to provide consent for this.
URL:https://www.stjuliansprimary.com/event/flu-immunisations-for-reception-year-4-pupils/
LOCATION:Gwent
END:VEVENT
BEGIN:VEVENT
DTSTART;VALUE=DATE:20171211
DTEND;VALUE=DATE:20171212
DTSTAMP:20260424T201056
CREATED:20170927T151016Z
LAST-MODIFIED:20170927T151016Z
UID:9966-1512950400-1513036799@www.stjuliansprimary.com
SUMMARY:Mince Pie and Raffle Evening
DESCRIPTION:School choir will perform and PTA will hold their annual raffle. Refreshments will be available. Event will take place in the Foundation Phase Hall.
URL:https://www.stjuliansprimary.com/event/mince-pie-and-raffle-evening/
LOCATION:St. Julian’s Primary School\, Beaufort Road\, Newport\, NP19 7UB\, United Kingdom
END:VEVENT
BEGIN:VEVENT
DTSTART;VALUE=DATE:20171208
DTEND;VALUE=DATE:20171209
DTSTAMP:20260424T201056
CREATED:20171030T152522Z
LAST-MODIFIED:20171112T152714Z
UID:10630-1512691200-1512777599@www.stjuliansprimary.com
SUMMARY:Nursery Parent Workshop
DESCRIPTION:Parents of Nursery pupils are invited to join Miss Morgan for a workshop which will explore ways of supporting your child’s development at home.
URL:https://www.stjuliansprimary.com/event/nursery-parent-workshop/
LOCATION:St. Julian’s Primary School\, Beaufort Road\, Newport\, NP19 7UB\, United Kingdom
END:VEVENT
BEGIN:VEVENT
DTSTART;TZID=Europe/London:20171206T093000
DTEND;TZID=Europe/London:20171206T113000
DTSTAMP:20260424T201056
CREATED:20171124T160210Z
LAST-MODIFIED:20171124T160210Z
UID:10770-1512552600-1512559800@www.stjuliansprimary.com
SUMMARY:Year 3 posting their letters to Father Christmas
DESCRIPTION:It’s that time of the year ago! Year 3 have been busy writing their letters to Santa and can’t wait to post them.  They will walk to the Post Office\, buy a stamp and then post it.  Fingers crossed it reaches Santa in time!
URL:https://www.stjuliansprimary.com/event/year-3-posting-their-letters-to-father-christmas/
LOCATION:Christchurch Post Office\, 194 Christchurch Road\, Newport\, NP19 8BD\, United Kingdom
END:VEVENT
BEGIN:VEVENT
DTSTART;VALUE=DATE:20171206
DTEND;VALUE=DATE:20171207
DTSTAMP:20260424T201056
CREATED:20171130T124613Z
LAST-MODIFIED:20171130T124613Z
UID:10919-1512518400-1512604799@www.stjuliansprimary.com
SUMMARY:Year 1 visit to St Julian's Baptist Church
DESCRIPTION:Year 1 pupils have the opportunity to visit St Julian’s Baptist Church. Year 1 classes will be visiting the church throughout the day.
URL:https://www.stjuliansprimary.com/event/year-1-visit-to-st-julians-baptist-church/
LOCATION:St Julian’s Baptist Church\, Beaufort Road\, Newport\, NP19 7PZ\, United Kingdom
END:VEVENT
BEGIN:VEVENT
DTSTART;VALUE=DATE:20171206
DTEND;VALUE=DATE:20171207
DTSTAMP:20260424T201056
CREATED:20171008T144135Z
LAST-MODIFIED:20171008T144239Z
UID:10169-1512518400-1512604799@www.stjuliansprimary.com
SUMMARY:Boulders Climbing Centre Taking Assembly
DESCRIPTION:Boulders Climbing Centre are coming in to talk the the children about having a Growth Mindset\, not giving up and reaching their dreams. In both Foundation Phase and Key Stage Two assemblies.
URL:https://www.stjuliansprimary.com/event/boulders-climbing-centre-taking-assembly/
LOCATION:St. Julian’s Primary School\, Beaufort Road\, Newport\, NP19 7UB\, United Kingdom
END:VEVENT
BEGIN:VEVENT
DTSTART;VALUE=DATE:20171205
DTEND;VALUE=DATE:20171206
DTSTAMP:20260424T201056
CREATED:20171116T225345Z
LAST-MODIFIED:20171116T225345Z
UID:10684-1512432000-1512518399@www.stjuliansprimary.com
SUMMARY:Year 2 Christmas Through the Keyhole Trip
DESCRIPTION:Year 2 pupils have the opportunity to take go on a Christmas expedition to find out more about the Christmas Story. They will explore different scenes and meet different characters from the nativity. You will have received a letter and ParentPay notification about this event. £3 charge for transport.
URL:https://www.stjuliansprimary.com/event/year-2-christmas-through-the-keyhole-trip/
LOCATION:Moriah Church\, Tredegar Street\, Risca\, Newport\, NP11 6BU
END:VEVENT
BEGIN:VEVENT
DTSTART;TZID=Europe/London:20171204T140000
DTEND;TZID=Europe/London:20171204T150000
DTSTAMP:20260424T201056
CREATED:20171124T155108Z
LAST-MODIFIED:20171124T155303Z
UID:10768-1512396000-1512399600@www.stjuliansprimary.com
SUMMARY:Year 4 Parental Engagement event
DESCRIPTION:Year 4 parents have the opportunity to come into the school and sample pizzas which their children have made.  Year 4’s theme is ‘Come Dine with Me’ and they can’t wait to share their learning and pizza making with their family.
URL:https://www.stjuliansprimary.com/event/year-4-parental-engagement-event/
LOCATION:St. Julian’s Primary School\, Beaufort Road\, Newport\, NP19 7UB\, United Kingdom
END:VEVENT
BEGIN:VEVENT
DTSTART;TZID=Europe/London:20171201T080000
DTEND;TZID=Europe/London:20171201T170000
DTSTAMP:20260424T201056
CREATED:20170808T162556Z
LAST-MODIFIED:20170808T162556Z
UID:9301-1512115200-1512147600@www.stjuliansprimary.com
SUMMARY:PTA Christmas Fayre
DESCRIPTION:Annual PTA Christmas Fayre after school. Stalls\, games and photographs with Santa.
URL:https://www.stjuliansprimary.com/event/pta-christmas-fayre/
LOCATION:St. Julian’s Primary School\, Beaufort Road\, Newport\, NP19 7UB\, United Kingdom
END:VEVENT
BEGIN:VEVENT
DTSTART;VALUE=DATE:20171201
DTEND;VALUE=DATE:20171202
DTSTAMP:20260424T201056
CREATED:20171028T112526Z
LAST-MODIFIED:20171028T112526Z
UID:10446-1512086400-1512172799@www.stjuliansprimary.com
SUMMARY:Christmas Jumper Day
DESCRIPTION:Pupils may wear a Christmas Jumper to school. Please donate £1 which will go towards paying for events and resources for the children.
URL:https://www.stjuliansprimary.com/event/christmas-jumper-day/
LOCATION:St. Julian’s Primary School\, Beaufort Road\, Newport\, NP19 7UB\, United Kingdom
END:VEVENT
BEGIN:VEVENT
DTSTART;TZID=Europe/London:20171129T091500
DTEND;TZID=Europe/London:20171129T143000
DTSTAMP:20260424T201056
CREATED:20171117T140336Z
LAST-MODIFIED:20171117T140336Z
UID:10696-1511946900-1511965800@www.stjuliansprimary.com
SUMMARY:Y5 Trip to Techniquest
DESCRIPTION:Year 5 pupils have the opportunity to visit Techniquest in Cardiff. The coach will leave school at 9:15am and will return by 2:30pm.
URL:https://www.stjuliansprimary.com/event/y5-trip-to-techniquest/
LOCATION:Techniquest\, Stuart Street\, Cardiff\, CF10 5BW\, United Kingdom
END:VEVENT
BEGIN:VEVENT
DTSTART;TZID=Europe/London:20171123T142000
DTEND;TZID=Europe/London:20171123T150000
DTSTAMP:20260424T201056
CREATED:20171030T152341Z
LAST-MODIFIED:20171112T152507Z
UID:10628-1511446800-1511449200@www.stjuliansprimary.com
SUMMARY:Year 4 Literacy Workshop
DESCRIPTION:Parents of year 4 pupils are invited to join us the afternoon to take part in a Literacy workshop and explore ways to support the development of literacy skills at home. Please arrive in Junior entrance at 2:15pm ready to be taken down to classrooms at 2:20pm.
URL:https://www.stjuliansprimary.com/event/year-4-literacy-workshop/
LOCATION:St. Julian’s Primary School\, Beaufort Road\, Newport\, NP19 7UB\, United Kingdom
END:VEVENT
BEGIN:VEVENT
DTSTART;VALUE=DATE:20171123
DTEND;VALUE=DATE:20171124
DTSTAMP:20260424T201056
CREATED:20171116T230819Z
LAST-MODIFIED:20171116T230819Z
UID:10693-1511395200-1511481599@www.stjuliansprimary.com
SUMMARY:NQT Workshop held at school
DESCRIPTION:Workshop for newly qualified teachers held at the school.
URL:https://www.stjuliansprimary.com/event/nqt-workshop-held-at-school/
LOCATION:St. Julian’s Primary School\, Beaufort Road\, Newport\, NP19 7UB\, United Kingdom
END:VEVENT
BEGIN:VEVENT
DTSTART;TZID=Europe/London:20171122T142000
DTEND;TZID=Europe/London:20171122T150000
DTSTAMP:20260424T201056
CREATED:20171030T152229Z
LAST-MODIFIED:20171112T152338Z
UID:10625-1511360400-1511362800@www.stjuliansprimary.com
SUMMARY:Year 3 Literacy Workshop
DESCRIPTION:Parents of year 3 pupils are invited to join us the afternoon to take part in a Literacy workshop and explore ways to support the development of literacy skills at home. Please arrive in Junior entrance for 2:15pm ready to be taken down to classrooms at 2:20pm.
URL:https://www.stjuliansprimary.com/event/year-3-literacy-workshop/
LOCATION:St. Julian’s Primary School\, Beaufort Road\, Newport\, NP19 7UB\, United Kingdom
END:VEVENT
BEGIN:VEVENT
DTSTART;VALUE=DATE:20171122
DTEND;VALUE=DATE:20171123
DTSTAMP:20260424T201056
CREATED:20171116T230505Z
LAST-MODIFIED:20171116T230505Z
UID:10689-1511308800-1511395199@www.stjuliansprimary.com
SUMMARY:F1 in Schools Year 6 Event
DESCRIPTION:As part of their ‘Top Gear’ theme\, pupils in Year 6 will have a visit from the F1 in Schools team who will build and race model cars with them.
URL:https://www.stjuliansprimary.com/event/f1-in-schools-year-6-event/
LOCATION:St. Julian’s Primary School\, Beaufort Road\, Newport\, NP19 7UB\, United Kingdom
END:VEVENT
BEGIN:VEVENT
DTSTART;TZID=Europe/London:20171121T091500
DTEND;TZID=Europe/London:20171121T121500
DTSTAMP:20260424T201056
CREATED:20171121T200729Z
LAST-MODIFIED:20171121T200729Z
UID:10751-1511255700-1511266500@www.stjuliansprimary.com
SUMMARY:Year 3 Pupils to Interactive Christmas Story
DESCRIPTION:Year 3 pupils have been invited to visit Malpas Road Evangelical Church to take part in their Interactive Christmas story. Letters with consent form have been sent out to parents. Please provide your child with a packed lunch.
URL:https://www.stjuliansprimary.com/event/year-3-pupils-to-interactive-christmas-story/
LOCATION:Malpas Road Evangelical Church\, Malpas Road\, Newport\, NP20 5PJ\, United Kingdom
END:VEVENT
BEGIN:VEVENT
DTSTART;TZID=Europe/London:20171121T080000
DTEND;TZID=Europe/London:20171121T170000
DTSTAMP:20260424T201056
CREATED:20170808T162304Z
LAST-MODIFIED:20170808T162304Z
UID:9299-1511251200-1511283600@www.stjuliansprimary.com
SUMMARY:Metacognition & Growth Mindset Workshop
DESCRIPTION:SJPS staff delivering workshop for teachers across the region on Metacognition and Growth Mindset
URL:https://www.stjuliansprimary.com/event/metacognition-growth-mindset-workshop/
LOCATION:St. Julian’s Primary School\, Beaufort Road\, Newport\, NP19 7UB\, United Kingdom
END:VEVENT
BEGIN:VEVENT
DTSTART;VALUE=DATE:20171120
DTEND;VALUE=DATE:20171121
DTSTAMP:20260424T201056
CREATED:20171116T230638Z
LAST-MODIFIED:20171116T230638Z
UID:10691-1511136000-1511222399@www.stjuliansprimary.com
SUMMARY:Year 1 Hearing Tests
DESCRIPTION:Schools’ Health Service will be in testing hearing of pupils in Year 1.
URL:https://www.stjuliansprimary.com/event/year-1-hearing-tests/
LOCATION:St. Julian’s Primary School\, Beaufort Road\, Newport\, NP19 7UB\, United Kingdom
END:VEVENT
BEGIN:VEVENT
DTSTART;TZID=Europe/London:20171117T153000
DTEND;TZID=Europe/London:20171117T170000
DTSTAMP:20260424T201056
CREATED:20171114T093927Z
LAST-MODIFIED:20171114T093948Z
UID:10680-1510932600-1510938000@www.stjuliansprimary.com
SUMMARY:St. Julian's V Eveswell Primary
DESCRIPTION:Football match between St Julian’s Primary and Eveswell Primary on school field.
URL:https://www.stjuliansprimary.com/event/st-julians-v-eveswell-primary/
LOCATION:St. Julian’s Primary School\, Beaufort Road\, Newport\, NP19 7UB\, United Kingdom
END:VEVENT
BEGIN:VEVENT
DTSTART;VALUE=DATE:20171117
DTEND;VALUE=DATE:20171118
DTSTAMP:20260424T201056
CREATED:20171116T230243Z
LAST-MODIFIED:20171116T230243Z
UID:10687-1510876800-1510963199@www.stjuliansprimary.com
SUMMARY:Chartwells Ready Steady Cook
DESCRIPTION:Chartwells\, the provider of our school meals\, will be in school to hold a fun ‘Ready\, Steady\, Cook’ style challenge. Year 2&3 in the morning and Year 4&5 in the afternoon.
URL:https://www.stjuliansprimary.com/event/chartwells-ready-steady-cook/
LOCATION:St. Julian’s Primary School\, Beaufort Road\, Newport\, NP19 7UB\, United Kingdom
END:VEVENT
BEGIN:VEVENT
DTSTART;VALUE=DATE:20171117
DTEND;VALUE=DATE:20171118
DTSTAMP:20260424T201056
CREATED:20171113T140757Z
LAST-MODIFIED:20171113T140830Z
UID:10674-1510876800-1510963199@www.stjuliansprimary.com
SUMMARY:Y6 Techniquest Trip
DESCRIPTION:Pupils from Y6 will visit Techniquest to discover forces. They must wear school uniform (despite it being a non-uniform day at school).
URL:https://www.stjuliansprimary.com/event/y6-techniquest-trip/
LOCATION:Gwent
END:VEVENT
BEGIN:VEVENT
DTSTART;VALUE=DATE:20171117
DTEND;VALUE=DATE:20171118
DTSTAMP:20260424T201056
CREATED:20171028T112359Z
LAST-MODIFIED:20171028T112359Z
UID:10444-1510876800-1510963199@www.stjuliansprimary.com
SUMMARY:Children in Need
DESCRIPTION:Non-uniform day. All pupils can wear their own clothes and pay £1 which will go to Children In Need.
URL:https://www.stjuliansprimary.com/event/children-in-need/
LOCATION:St. Julian’s Primary School\, Beaufort Road\, Newport\, NP19 7UB\, United Kingdom
END:VEVENT
BEGIN:VEVENT
DTSTART;TZID=Europe/London:20171116T153000
DTEND;TZID=Europe/London:20171116T163000
DTSTAMP:20260424T201056
CREATED:20171028T112246Z
LAST-MODIFIED:20171028T112246Z
UID:10442-1510846200-1510849800@www.stjuliansprimary.com
SUMMARY:PTA Meeting
DESCRIPTION:All parents welcome to attend the PTA meeting held in the foundation phase hall. Meeting to discuss Christmas events.
URL:https://www.stjuliansprimary.com/event/pta-meeting/
LOCATION:St. Julian’s Primary School\, Beaufort Road\, Newport\, NP19 7UB\, United Kingdom
END:VEVENT
BEGIN:VEVENT
DTSTART;TZID=Europe/London:20171116T143000
DTEND;TZID=Europe/London:20171116T151000
DTSTAMP:20260424T201056
CREATED:20171030T200706Z
LAST-MODIFIED:20171112T151137Z
UID:10621-1510842600-1510845000@www.stjuliansprimary.com
SUMMARY:Year 2 Literacy Workshop
DESCRIPTION:Parents of year 2 pupils are invited to join us the afternoon to take part in a Literacy workshop and explore ways to support the development of literacy skills at home.
URL:https://www.stjuliansprimary.com/event/year-2-literacy-workshop/
LOCATION:St. Julian’s Primary School\, Beaufort Road\, Newport\, NP19 7UB\, United Kingdom
END:VEVENT
BEGIN:VEVENT
DTSTART;TZID=Europe/London:20171115T142000
DTEND;TZID=Europe/London:20171115T151000
DTSTAMP:20260424T201056
CREATED:20171030T201433Z
LAST-MODIFIED:20171112T151510Z
UID:10623-1510755600-1510758600@www.stjuliansprimary.com
SUMMARY:Year 1 Literacy Workshop
DESCRIPTION:Parents of year 1 pupils are invited to join us the afternoon to take part in a Literacy workshop and explore ways to support the development of literacy skills at home.
URL:https://www.stjuliansprimary.com/event/year-1-literacy-workshop/
LOCATION:St. Julian’s Primary School\, Beaufort Road\, Newport\, NP19 7UB\, United Kingdom
END:VEVENT
BEGIN:VEVENT
DTSTART;TZID=Europe/London:20171114T091500
DTEND;TZID=Europe/London:20171114T121500
DTSTAMP:20260424T201056
CREATED:20170808T161330Z
LAST-MODIFIED:20170808T161330Z
UID:9295-1510650900-1510661700@www.stjuliansprimary.com
SUMMARY:Motivation & Enthusiasm Workshop
DESCRIPTION:SJPS staff delivering a workshop for teachers across the region on motivating and engaging learners.
URL:https://www.stjuliansprimary.com/event/motivation-enthusiasm-workshop/
LOCATION:St. Julian’s Primary School\, Beaufort Road\, Newport\, NP19 7UB\, United Kingdom
END:VEVENT
BEGIN:VEVENT
DTSTART;VALUE=DATE:20171109
DTEND;VALUE=DATE:20171111
DTSTAMP:20260424T201056
CREATED:20171022T165553Z
LAST-MODIFIED:20171022T165553Z
UID:10299-1510185600-1510358399@www.stjuliansprimary.com
SUMMARY:Great St. Julian's Bake Off
DESCRIPTION:Parents and Pupils have been invited to apply to take part in this year’s Great St. Julian’s Bake Off. They will be set the challenge of baking a sponge cake in a tight time limit. Hope they don’t CRUMBLE under pressure! Unfortunately\, this event is limited to successful applicants.
URL:https://www.stjuliansprimary.com/event/great-st-julians-bake-off/
LOCATION:St. Julian’s Primary School\, Beaufort Road\, Newport\, NP19 7UB\, United Kingdom
END:VEVENT
BEGIN:VEVENT
DTSTART;TZID=Europe/London:20171106T090000
DTEND;TZID=Europe/London:20171106T170000
DTSTAMP:20260424T201056
CREATED:20170808T161056Z
LAST-MODIFIED:20170808T161056Z
UID:9293-1509958800-1509987600@www.stjuliansprimary.com
SUMMARY:Mr Mansfield & Digital Leaders Presenting in Swansea
DESCRIPTION:Mr Mansfield and a group of his Digital Leaders are delivering a training session for a school in Swansea.
URL:https://www.stjuliansprimary.com/event/mr-mansfield-digital-leaders-presenting-in-swansea/
LOCATION:Gwent
END:VEVENT
END:VCALENDAR