BEGIN:VCALENDAR
VERSION:2.0
PRODID:-//St Julians Primary School - ECPv6.15.20//NONSGML v1.0//EN
CALSCALE:GREGORIAN
METHOD:PUBLISH
X-WR-CALNAME:St Julians Primary School
X-ORIGINAL-URL:https://www.stjuliansprimary.com
X-WR-CALDESC:Events for St Julians Primary School
REFRESH-INTERVAL;VALUE=DURATION:PT1H
X-Robots-Tag:noindex
X-PUBLISHED-TTL:PT1H
BEGIN:VTIMEZONE
TZID:Europe/London
BEGIN:DAYLIGHT
TZOFFSETFROM:+0000
TZOFFSETTO:+0100
TZNAME:BST
DTSTART:20160327T010000
END:DAYLIGHT
BEGIN:STANDARD
TZOFFSETFROM:+0100
TZOFFSETTO:+0000
TZNAME:GMT
DTSTART:20161030T010000
END:STANDARD
BEGIN:DAYLIGHT
TZOFFSETFROM:+0000
TZOFFSETTO:+0100
TZNAME:BST
DTSTART:20170326T010000
END:DAYLIGHT
BEGIN:STANDARD
TZOFFSETFROM:+0100
TZOFFSETTO:+0000
TZNAME:GMT
DTSTART:20171029T010000
END:STANDARD
BEGIN:DAYLIGHT
TZOFFSETFROM:+0000
TZOFFSETTO:+0100
TZNAME:BST
DTSTART:20180325T010000
END:DAYLIGHT
BEGIN:STANDARD
TZOFFSETFROM:+0100
TZOFFSETTO:+0000
TZNAME:GMT
DTSTART:20181028T010000
END:STANDARD
END:VTIMEZONE
BEGIN:VEVENT
DTSTART;VALUE=DATE:20171030
DTEND;VALUE=DATE:20171104
DTSTAMP:20260425T013002
CREATED:20170927T150612Z
LAST-MODIFIED:20170927T150612Z
UID:9964-1509321600-1509753599@www.stjuliansprimary.com
SUMMARY:Half Term
DESCRIPTION:School closed for Half-Term break
URL:https://www.stjuliansprimary.com/event/half-term-2/
LOCATION:Gwent
END:VEVENT
BEGIN:VEVENT
DTSTART;VALUE=DATE:20171026
DTEND;VALUE=DATE:20171027
DTSTAMP:20260425T013002
CREATED:20171022T164806Z
LAST-MODIFIED:20171022T165005Z
UID:10294-1508976000-1509062399@www.stjuliansprimary.com
SUMMARY:Techniquest Starlab in School for Y2
DESCRIPTION:Techniquest Starlab in school for certain year groups. Pupils will have the chance to sit in a large dome-shaped tent to explore the stars
URL:https://www.stjuliansprimary.com/event/techniquest-starlab-in-school-for-y2/
LOCATION:St. Julian’s Primary School\, Beaufort Road\, Newport\, NP19 7UB\, United Kingdom
END:VEVENT
BEGIN:VEVENT
DTSTART;TZID=Europe/London:20171025T180000
DTEND;TZID=Europe/London:20171025T190000
DTSTAMP:20260425T013002
CREATED:20170927T161228Z
LAST-MODIFIED:20170927T161228Z
UID:9975-1508954400-1508958000@www.stjuliansprimary.com
SUMMARY:Choir Concert
DESCRIPTION:Our school choirs will perform a range of songs along with the newly formed ‘Just Sing’ choir including our past pupils. \n 
URL:https://www.stjuliansprimary.com/event/choir-concert/
LOCATION:St. Julius and Aaron’s Church\, 41 St Julian's Ave\,\, Newport\, NP19 7JT\, United Kingdom
END:VEVENT
BEGIN:VEVENT
DTSTART;TZID=Europe/London:20171025T143000
DTEND;TZID=Europe/London:20171025T153000
DTSTAMP:20260425T013002
CREATED:20171022T164235Z
LAST-MODIFIED:20171024T073455Z
UID:10296-1508941800-1508945400@www.stjuliansprimary.com
SUMMARY:Pori Drwy Stori
DESCRIPTION:A chance for Reception parents to come in take part in a great workshop to develop literacy skills.
URL:https://www.stjuliansprimary.com/event/pori-drwy-stori/
LOCATION:St. Julian’s Primary School\, Beaufort Road\, Newport\, NP19 7UB\, United Kingdom
END:VEVENT
BEGIN:VEVENT
DTSTART;TZID=Europe/London:20171025T133000
DTEND;TZID=Europe/London:20171025T153000
DTSTAMP:20260425T013002
CREATED:20171022T163959Z
LAST-MODIFIED:20171022T163959Z
UID:10293-1508938200-1508945400@www.stjuliansprimary.com
SUMMARY:Mr Price from St. Julian's High Visiting
DESCRIPTION:Mr Price will visit the three year 6 classes to teach them a Design and Technology lesson.
URL:https://www.stjuliansprimary.com/event/mr-price-from-st-julians-high-visiting/
LOCATION:St. Julian’s Primary School\, Beaufort Road\, Newport\, NP19 7UB\, United Kingdom
END:VEVENT
BEGIN:VEVENT
DTSTART;TZID=Europe/London:20171024T133000
DTEND;TZID=Europe/London:20171024T153000
DTSTAMP:20260425T013002
CREATED:20171022T170244Z
LAST-MODIFIED:20171022T222917Z
UID:10301-1508851800-1508859000@www.stjuliansprimary.com
SUMMARY:Y5 First Aid Lessons
DESCRIPTION:Year 5 pupils will be giving First Aid lessons to pupils in Y5.
URL:https://www.stjuliansprimary.com/event/y5-first-aid-lessons/
LOCATION:St. Julian’s Primary School\, Beaufort Road\, Newport\, NP19 7UB\, United Kingdom
END:VEVENT
BEGIN:VEVENT
DTSTART;TZID=Europe/London:20171023T153000
DTEND;TZID=Europe/London:20171023T163000
DTSTAMP:20260425T013002
CREATED:20171022T163417Z
LAST-MODIFIED:20171022T163417Z
UID:10291-1508772600-1508776200@www.stjuliansprimary.com
SUMMARY:Parents' Digital Learning Evening
DESCRIPTION:A chance for parents to see the online tools we use with pupils. Held in Key Stage Two hall. Childcare available for pupils at St. Julian’s Primary.
URL:https://www.stjuliansprimary.com/event/parents-digital-learning-evening/
LOCATION:St. Julian’s Primary School\, Beaufort Road\, Newport\, NP19 7UB\, United Kingdom
END:VEVENT
BEGIN:VEVENT
DTSTART;TZID=Europe/London:20171023T130000
DTEND;TZID=Europe/London:20171023T150000
DTSTAMP:20260425T013002
CREATED:20171023T213249Z
LAST-MODIFIED:20171023T213327Z
UID:10363-1508763600-1508770800@www.stjuliansprimary.com
SUMMARY:Year 5 Cracking Ideas Bazaar
DESCRIPTION:Year 5 pupils will invite pupils from years 3\, 4 & 6 to come to the hall to buy their products and services as part of their ‘Cracking Ideas’ theme. Pupils can bring up to £3 to school.
URL:https://www.stjuliansprimary.com/event/year-5-cracking-ideas-bazaar/
LOCATION:St. Julian’s Primary School\, Beaufort Road\, Newport\, NP19 7UB\, United Kingdom
END:VEVENT
BEGIN:VEVENT
DTSTART;TZID=Europe/London:20171019T153000
DTEND;TZID=Europe/London:20171019T163000
DTSTAMP:20260425T013002
CREATED:20171006T102457Z
LAST-MODIFIED:20171012T105724Z
UID:10159-1508427000-1508430600@www.stjuliansprimary.com
SUMMARY:PTA meeting in the Foundation Phase hall
DESCRIPTION:All parents are welcome to attend the Annual General Meeting of the schools’ PTA. This was due to be held last Thursday\, but the chair of the PTA has requested that the meeting be moved to the 19th.
URL:https://www.stjuliansprimary.com/event/pta-meeting-in-the-foundation-phase-hall/
LOCATION:St. Julian’s Primary School\, Beaufort Road\, Newport\, NP19 7UB\, United Kingdom
END:VEVENT
BEGIN:VEVENT
DTSTART;TZID=Europe/London:20171017T091500
DTEND;TZID=Europe/London:20171017T121500
DTSTAMP:20260425T013002
CREATED:20170806T221513Z
LAST-MODIFIED:20170806T221513Z
UID:9243-1508231700-1508242500@www.stjuliansprimary.com
SUMMARY:Data for Learning Workshop
DESCRIPTION:Workshop led by Mr Mansfield and Mrs Orford looking at effective use of school data to measure progress and move learning forward. Workshop available to teachers from across the region.
URL:https://www.stjuliansprimary.com/event/data-for-learning-workshop/
LOCATION:St. Julian’s Primary School\, Beaufort Road\, Newport\, NP19 7UB\, United Kingdom
END:VEVENT
BEGIN:VEVENT
DTSTART;TZID=Europe/London:20171013T081500
DTEND;TZID=Europe/London:20171013T140000
DTSTAMP:20260425T013002
CREATED:20170927T150031Z
LAST-MODIFIED:20171008T183521Z
UID:9961-1507882500-1507903200@www.stjuliansprimary.com
SUMMARY:School Photographs
DESCRIPTION:School photographer (Colorfoto) will be in to take pupil portrait photographs. Family photos will be in the Foundation Phase Hall from 8:15am.
URL:https://www.stjuliansprimary.com/event/school-photographs/
LOCATION:St. Julian’s Primary School\, Beaufort Road\, Newport\, NP19 7UB\, United Kingdom
END:VEVENT
BEGIN:VEVENT
DTSTART;TZID=Europe/London:20171010T091500
DTEND;TZID=Europe/London:20171010T121500
DTSTAMP:20260425T013002
CREATED:20170806T221140Z
LAST-MODIFIED:20170806T221140Z
UID:9241-1507626900-1507637700@www.stjuliansprimary.com
SUMMARY:Behaviour for Learning Workshop
DESCRIPTION:Course being delivered for teachers from across the region focusing on Behaviour for Learning. Participants should report to the Junior reception area.
URL:https://www.stjuliansprimary.com/event/behaviour-for-learning-workshop/
LOCATION:St. Julian’s Primary School\, Beaufort Road\, Newport\, NP19 7UB\, United Kingdom
END:VEVENT
BEGIN:VEVENT
DTSTART;VALUE=DATE:20171004
DTEND;VALUE=DATE:20171006
DTSTAMP:20260425T013002
CREATED:20170808T163308Z
LAST-MODIFIED:20170917T102433Z
UID:9303-1507075200-1507247999@www.stjuliansprimary.com
SUMMARY:Parent Consultation Evening
DESCRIPTION:A chance for you to meet your child’s new teacher. Online booking system will become live two weeks before the event to book your time slot. We will send all parents a letter and electronic link to book your appointment. Appointments available from 3:15pm – 6:00pm
URL:https://www.stjuliansprimary.com/event/parent-consultation-evening/
LOCATION:St. Julian’s Primary School\, Beaufort Road\, Newport\, NP19 7UB\, United Kingdom
END:VEVENT
BEGIN:VEVENT
DTSTART;VALUE=DATE:20171004
DTEND;VALUE=DATE:20171006
DTSTAMP:20260425T013002
CREATED:20171008T183013Z
LAST-MODIFIED:20171008T183013Z
UID:10177-1507075200-1507247999@www.stjuliansprimary.com
SUMMARY:Y3&4 Trip to Caerleon Roman Legion Museum
DESCRIPTION:Year 3 and 4 pupils will visit the Roman Legion Museum to find out more about the Romans and how they lived. \nFor Y3JV\, Y3AE\, Y3SW/LM and Y4HH\, this visit will take place on Wednesday 4th October 2017. For pupils in Y4RHP/BD and Y4ES\, this visit will take place on the Thursday 5th October 2017. The coach will leave school at 9.30a.m. and will return by 14:45p.m on both days. A packed-lunch will be required and school uniform needs to be worn\, however pupils must wear sensible footwear and bring an outdoor coat with them.
URL:https://www.stjuliansprimary.com/event/y34-trip-to-caerleon-roman-legion-museum/
LOCATION:National Roman Legion Museum\, High St\, Caerleon\, Newport\, NP18 1AE\, United Kingdom
END:VEVENT
BEGIN:VEVENT
DTSTART;TZID=Europe/London:20171003T130000
DTEND;TZID=Europe/London:20171003T150000
DTSTAMP:20260425T013002
CREATED:20171003T221352Z
LAST-MODIFIED:20171003T221352Z
UID:10143-1507035600-1507042800@www.stjuliansprimary.com
SUMMARY:Newport Schools' Football League Launch
DESCRIPTION:Pupils from primary schools across Newport will come to take part in the launch of the new Football League\, hosted by Mr Jones.
URL:https://www.stjuliansprimary.com/event/newport-schools-football-league-launch/
LOCATION:St. Julian’s Primary School\, Beaufort Road\, Newport\, NP19 7UB\, United Kingdom
END:VEVENT
BEGIN:VEVENT
DTSTART;TZID=Europe/London:20170928T133000
DTEND;TZID=Europe/London:20170928T143000
DTSTAMP:20260425T013002
CREATED:20170927T145824Z
LAST-MODIFIED:20170927T145824Z
UID:9958-1506605400-1506609000@www.stjuliansprimary.com
SUMMARY:Harvest Festival Assembly
DESCRIPTION:Pupils from Key Stage Two and Foundation Phase will join together for our Harvest Assembly. We would be so grateful if pupils each brought in a tin of food to share. This year\, food will be donated to the Raven House Trust.
URL:https://www.stjuliansprimary.com/event/harvest-festival-assembly/
LOCATION:Beaufort Centre\, Beaufort Road\, Newport\, Gwent\, NP19 7UB\, United Kingdom
END:VEVENT
BEGIN:VEVENT
DTSTART;VALUE=DATE:20170906
DTEND;VALUE=DATE:20170907
DTSTAMP:20260425T013002
CREATED:20170806T220632Z
LAST-MODIFIED:20170806T221325Z
UID:9237-1504656000-1504742399@www.stjuliansprimary.com
SUMMARY:Pupils return to school
DESCRIPTION:Pupils return to school following Summer Holiday. Please make sure they are on time and dressed in school uniform. We’re looking forward to seeing them all!
URL:https://www.stjuliansprimary.com/event/pupils-return-to-school/
LOCATION:St. Julian’s Primary School\, Beaufort Road\, Newport\, NP19 7UB\, United Kingdom
END:VEVENT
BEGIN:VEVENT
DTSTART;VALUE=DATE:20170904
DTEND;VALUE=DATE:20170906
DTSTAMP:20260425T013002
CREATED:20170806T220456Z
LAST-MODIFIED:20170806T220456Z
UID:9234-1504483200-1504655999@www.stjuliansprimary.com
SUMMARY:Staff Training Day
DESCRIPTION:Monday and Tuesday are staff training days – school closed to pupils
URL:https://www.stjuliansprimary.com/event/staff-training-day/
LOCATION:St. Julian’s Primary School\, Beaufort Road\, Newport\, NP19 7UB\, United Kingdom
END:VEVENT
END:VCALENDAR