BEGIN:VCALENDAR
VERSION:2.0
PRODID:-//St Julians Primary School - ECPv6.15.20//NONSGML v1.0//EN
CALSCALE:GREGORIAN
METHOD:PUBLISH
X-ORIGINAL-URL:https://www.stjuliansprimary.com
X-WR-CALDESC:Events for St Julians Primary School
REFRESH-INTERVAL;VALUE=DURATION:PT1H
X-Robots-Tag:noindex
X-PUBLISHED-TTL:PT1H
BEGIN:VTIMEZONE
TZID:Europe/London
BEGIN:DAYLIGHT
TZOFFSETFROM:+0000
TZOFFSETTO:+0100
TZNAME:BST
DTSTART:20190331T010000
END:DAYLIGHT
BEGIN:STANDARD
TZOFFSETFROM:+0100
TZOFFSETTO:+0000
TZNAME:GMT
DTSTART:20191027T010000
END:STANDARD
BEGIN:DAYLIGHT
TZOFFSETFROM:+0000
TZOFFSETTO:+0100
TZNAME:BST
DTSTART:20200329T010000
END:DAYLIGHT
BEGIN:STANDARD
TZOFFSETFROM:+0100
TZOFFSETTO:+0000
TZNAME:GMT
DTSTART:20201025T010000
END:STANDARD
BEGIN:DAYLIGHT
TZOFFSETFROM:+0000
TZOFFSETTO:+0100
TZNAME:BST
DTSTART:20210328T010000
END:DAYLIGHT
BEGIN:STANDARD
TZOFFSETFROM:+0100
TZOFFSETTO:+0000
TZNAME:GMT
DTSTART:20211031T010000
END:STANDARD
BEGIN:DAYLIGHT
TZOFFSETFROM:+0000
TZOFFSETTO:+0100
TZNAME:BST
DTSTART:20220327T010000
END:DAYLIGHT
BEGIN:STANDARD
TZOFFSETFROM:+0100
TZOFFSETTO:+0000
TZNAME:GMT
DTSTART:20221030T010000
END:STANDARD
END:VTIMEZONE
BEGIN:VEVENT
DTSTART;VALUE=DATE:20210319
DTEND;VALUE=DATE:20210320
DTSTAMP:20260420T194944
CREATED:20210307T215228Z
LAST-MODIFIED:20210307T215228Z
UID:18342-1616112000-1616198399@www.stjuliansprimary.com
SUMMARY:Red Nose Day
DESCRIPTION:Children can donate £1 to wear non-uniform to school today.
URL:https://www.stjuliansprimary.com/event/red-nose-day/
LOCATION:St. Julian’s Primary School\, Beaufort Road\, Newport\, NP19 7UB\, United Kingdom
END:VEVENT
BEGIN:VEVENT
DTSTART;VALUE=DATE:20210315
DTEND;VALUE=DATE:20210316
DTSTAMP:20260420T194944
CREATED:20210307T093838Z
LAST-MODIFIED:20210307T093901Z
UID:18338-1615766400-1615852799@www.stjuliansprimary.com
SUMMARY:KS2 Pupils Return
DESCRIPTION:KS2 pupils (Years 3-6) return to school following period of lockdown. \n 
URL:https://www.stjuliansprimary.com/event/ks2-pupils-return/
LOCATION:St. Julian’s Primary School\, Beaufort Road\, Newport\, NP19 7UB\, United Kingdom
END:VEVENT
BEGIN:VEVENT
DTSTART;VALUE=DATE:20210304
DTEND;VALUE=DATE:20210305
DTSTAMP:20260420T194944
CREATED:20210307T094515Z
LAST-MODIFIED:20210307T094527Z
UID:18340-1614816000-1614902399@www.stjuliansprimary.com
SUMMARY:World Book Day
DESCRIPTION:Whether learning from home or in school\, we’d encourage all children to dress up as their favourite book characters.
URL:https://www.stjuliansprimary.com/event/world-book-day-4/
LOCATION:St. Julian’s Primary School\, Beaufort Road\, Newport\, NP19 7UB\, United Kingdom
END:VEVENT
BEGIN:VEVENT
DTSTART;VALUE=DATE:20210224
DTEND;VALUE=DATE:20210225
DTSTAMP:20260420T194944
CREATED:20210212T213300Z
LAST-MODIFIED:20210212T213300Z
UID:18290-1614124800-1614211199@www.stjuliansprimary.com
SUMMARY:January Rising 3 pupils start
DESCRIPTION:January Rising 3 pupils start school for reduced sessions Wednesday and Thursday. They will begin full sessions on Friday.
URL:https://www.stjuliansprimary.com/event/january-rising-3-pupils-start/
LOCATION:St. Julian’s Primary School\, Beaufort Road\, Newport\, NP19 7UB\, United Kingdom
END:VEVENT
BEGIN:VEVENT
DTSTART;VALUE=DATE:20210223
DTEND;VALUE=DATE:20210224
DTSTAMP:20260420T194944
CREATED:20210212T213109Z
LAST-MODIFIED:20210212T213152Z
UID:18287-1614038400-1614124799@www.stjuliansprimary.com
SUMMARY:Foundation Phase Pupils return to school
DESCRIPTION:Only Foundation Phase pupils (Nursery-Year 2) will return to school today. All classes must follow their staggered timings. \nRising 3 nursery children return Wednesday \nSee letter sent to parents – 12/2/2021 – for further information
URL:https://www.stjuliansprimary.com/event/foundation-phase-pupils-return-to-school/
LOCATION:St. Julian’s Primary School\, Beaufort Road\, Newport\, NP19 7UB\, United Kingdom
END:VEVENT
BEGIN:VEVENT
DTSTART;VALUE=DATE:20210222
DTEND;VALUE=DATE:20210223
DTSTAMP:20260420T194944
CREATED:20210212T212954Z
LAST-MODIFIED:20210212T212954Z
UID:18285-1613952000-1614038399@www.stjuliansprimary.com
SUMMARY:Start of Spring Term B
DESCRIPTION:Preparation day for Foundation Phase teachers\, though they will continue to set home-learning for children. \nHome Learning will continue for Key Stage 2 pupils. \nHub still available for children of Critical Workers who have been attending the hub last half-term.
URL:https://www.stjuliansprimary.com/event/start-of-spring-term-b/
LOCATION:St. Julian’s Primary School\, Beaufort Road\, Newport\, NP19 7UB\, United Kingdom
END:VEVENT
BEGIN:VEVENT
DTSTART;VALUE=DATE:20210215
DTEND;VALUE=DATE:20210220
DTSTAMP:20260420T194944
CREATED:20210212T222321Z
LAST-MODIFIED:20210212T225735Z
UID:18308-1613347200-1613779199@www.stjuliansprimary.com
SUMMARY:Half-Term Break
DESCRIPTION:
URL:https://www.stjuliansprimary.com/event/half-term-break/
LOCATION:St. Julian’s Primary School\, Beaufort Road\, Newport\, NP19 7UB\, United Kingdom
END:VEVENT
BEGIN:VEVENT
DTSTART;VALUE=DATE:20210105
DTEND;VALUE=DATE:20210109
DTSTAMP:20260420T194944
CREATED:20201224T203748Z
LAST-MODIFIED:20201224T203806Z
UID:18182-1609804800-1610150399@www.stjuliansprimary.com
SUMMARY:Blended/Home Learning
DESCRIPTION:Teachers will provide home-learning activities this week. All schools in Newport will remain closed to children due to the Covid19 virus rise in cases.
URL:https://www.stjuliansprimary.com/event/blended-home-learning/
LOCATION:St Julian’s Primary School\, Beaufort Road\, Newport\, NP197UB\, United Kingdom
END:VEVENT
BEGIN:VEVENT
DTSTART;VALUE=DATE:20210104
DTEND;VALUE=DATE:20210105
DTSTAMP:20260420T194944
CREATED:20201103T141917Z
LAST-MODIFIED:20201103T141917Z
UID:17652-1609718400-1609804799@www.stjuliansprimary.com
SUMMARY:Training Day
DESCRIPTION:School closed to pupils for staff training day
URL:https://www.stjuliansprimary.com/event/training-day/
LOCATION:St Julian’s Primary School\, Beaufort Road\, Newport\, NP197UB\, United Kingdom
END:VEVENT
BEGIN:VEVENT
DTSTART;VALUE=DATE:20201217
DTEND;VALUE=DATE:20201219
DTSTAMP:20260420T194944
CREATED:20201211T223337Z
LAST-MODIFIED:20201211T223337Z
UID:18109-1608163200-1608335999@www.stjuliansprimary.com
SUMMARY:School Closed - Blended/Home Learning
DESCRIPTION:Newport Council have made the decision for primary schools to move to a blended/learning approach for the final two days of the Autumn Term. See Letters to Parents page for more information.
URL:https://www.stjuliansprimary.com/event/school-closed-blended-home-learning/
END:VEVENT
BEGIN:VEVENT
DTSTART;TZID=Europe/London:20201216T180000
DTEND;TZID=Europe/London:20201216T190000
DTSTAMP:20260420T194944
CREATED:20201030T175125Z
LAST-MODIFIED:20201030T175125Z
UID:17624-1608141600-1608145200@www.stjuliansprimary.com
SUMMARY:Christmas Carol Service
DESCRIPTION:As we’re unable to hold our usual carol service at St. Julian’s Baptist Church\, join us online for our virtual carol service. 6pm – we will text the link out to parents.
URL:https://www.stjuliansprimary.com/event/christmas-carol-service/
LOCATION:Online / Virtual Event
END:VEVENT
BEGIN:VEVENT
DTSTART;VALUE=DATE:20201216
DTEND;VALUE=DATE:20201217
DTSTAMP:20260420T194944
CREATED:20201211T223507Z
LAST-MODIFIED:20201211T223507Z
UID:18112-1608076800-1608163199@www.stjuliansprimary.com
SUMMARY:Staff Training Day
DESCRIPTION:School closed to pupils. Staff Training Day.
URL:https://www.stjuliansprimary.com/event/staff-training-day-9/
LOCATION:St. Julian’s Primary School\, Beaufort Road\, Newport\, NP19 7UB\, United Kingdom
END:VEVENT
BEGIN:VEVENT
DTSTART;TZID=Europe/London:20201215T120000
DTEND;TZID=Europe/London:20201215T150000
DTSTAMP:20260420T194944
CREATED:20201217T120000Z
LAST-MODIFIED:20201211T223545Z
UID:17679-1608033600-1608044400@www.stjuliansprimary.com
SUMMARY:Class Christmas Parties
DESCRIPTION:This year\, parents will be unable to send in party food and therefore\, we will ask for a £1 donation to go towards buying party food for the class.
URL:https://www.stjuliansprimary.com/event/class-christmas-parties-2/
LOCATION:St Julian’s Primary School\, Beaufort Road\, Newport\, NP197UB\, United Kingdom
END:VEVENT
BEGIN:VEVENT
DTSTART;VALUE=DATE:20201214
DTEND;VALUE=DATE:20201215
DTSTAMP:20260420T194944
CREATED:20201030T000000Z
LAST-MODIFIED:20201030T175349Z
UID:17627-1607904000-1607990399@www.stjuliansprimary.com
SUMMARY:Christmas Concerts
DESCRIPTION:We’re unable to invite parents into school for Christmas Concerts at the moment. All classes will record a mini Christmas Concert and we will share the link with parents. They will be published this week and we will text a link to parents.
URL:https://www.stjuliansprimary.com/event/christmas-concerts/
END:VEVENT
BEGIN:VEVENT
DTSTART;VALUE=DATE:20201211
DTEND;VALUE=DATE:20201212
DTSTAMP:20260420T194944
CREATED:20201120T080000Z
LAST-MODIFIED:20201120T192558Z
UID:18002-1607644800-1607731199@www.stjuliansprimary.com
SUMMARY:Christmas Jumper Day
DESCRIPTION:Pupils can wear a Christmas jumper to school for the day (with smart trousers or a skirt) and donate money to Save the Children.
URL:https://www.stjuliansprimary.com/event/christmas-jumper-day-2/
END:VEVENT
BEGIN:VEVENT
DTSTART;TZID=Europe/London:20201208T163000
DTEND;TZID=Europe/London:20201208T173000
DTSTAMP:20260420T194944
CREATED:20201103T145124Z
LAST-MODIFIED:20201103T145124Z
UID:17676-1607445000-1607448600@www.stjuliansprimary.com
SUMMARY:Christmas Raffle Event
DESCRIPTION:
URL:https://www.stjuliansprimary.com/event/christmas-raffle-event/
LOCATION:Online / Virtual Event
END:VEVENT
BEGIN:VEVENT
DTSTART;VALUE=DATE:20201203
DTEND;VALUE=DATE:20201204
DTSTAMP:20260420T194944
CREATED:20201103T144125Z
LAST-MODIFIED:20201103T144125Z
UID:17673-1606953600-1607039999@www.stjuliansprimary.com
SUMMARY:Years Reception & 1 Christmas Movie evening
DESCRIPTION:
URL:https://www.stjuliansprimary.com/event/years-reception-1-christmas-movie-evening/
LOCATION:St Julian’s Primary School\, Beaufort Road\, Newport\, NP197UB\, United Kingdom
END:VEVENT
BEGIN:VEVENT
DTSTART;VALUE=DATE:20201202
DTEND;VALUE=DATE:20201203
DTSTAMP:20260420T194944
CREATED:20201103T144032Z
LAST-MODIFIED:20201103T144032Z
UID:17671-1606867200-1606953599@www.stjuliansprimary.com
SUMMARY:Years 2\, 3 & 4 Christmas Movie evening
DESCRIPTION:
URL:https://www.stjuliansprimary.com/event/years-2-3-4-christmas-movie-evening/
LOCATION:St Julian’s Primary School\, Beaufort Road\, Newport\, NP197UB\, United Kingdom
END:VEVENT
BEGIN:VEVENT
DTSTART;VALUE=DATE:20201201
DTEND;VALUE=DATE:20201202
DTSTAMP:20260420T194944
CREATED:20201103T143850Z
LAST-MODIFIED:20201103T143850Z
UID:17668-1606780800-1606867199@www.stjuliansprimary.com
SUMMARY:Year 5&6 Christmas Movie evening
DESCRIPTION:
URL:https://www.stjuliansprimary.com/event/year-56-christmas-movie-evening/
LOCATION:St Julian’s Primary School\, Beaufort Road\, Newport\, NP197UB\, United Kingdom
END:VEVENT
BEGIN:VEVENT
DTSTART;VALUE=DATE:20201116
DTEND;VALUE=DATE:20201121
DTSTAMP:20260420T194944
CREATED:20201114T124533Z
LAST-MODIFIED:20201114T124533Z
UID:17915-1605484800-1605916799@www.stjuliansprimary.com
SUMMARY:Anti-Bullying Week
DESCRIPTION:Pupils will spend time this week considering what bullying is\, what to do if they experience bullying and how to help and be kind to others. On Monday\, we are joining with schools across the country to wear odd socks in support of the anti-bullying campaign!
URL:https://www.stjuliansprimary.com/event/anti-bullying-week/
LOCATION:St. Julian’s Primary School\, Beaufort Road\, Newport\, NP19 7UB\, United Kingdom
END:VEVENT
BEGIN:VEVENT
DTSTART;VALUE=DATE:20201116
DTEND;VALUE=DATE:20201120
DTSTAMP:20260420T194944
CREATED:20201030T174908Z
LAST-MODIFIED:20201030T174908Z
UID:17622-1605484800-1605830399@www.stjuliansprimary.com
SUMMARY:FP Pupil Progress Phone Calls
DESCRIPTION:As we are unable to hold parents’ evening this year\, teachers will contact parents via telephone for 10 minute phone consultations. You can book using our online booking system or by telephoning the school office. 10 minute appointments after school from Monday to Thursday available.
URL:https://www.stjuliansprimary.com/event/fp-pupil-progress-phone-calls/
LOCATION:St Julian’s Primary School\, Beaufort Road\, Newport\, NP197UB\, United Kingdom
END:VEVENT
BEGIN:VEVENT
DTSTART;VALUE=DATE:20201113
DTEND;VALUE=DATE:20201114
DTSTAMP:20260420T194944
CREATED:20201103T145640Z
LAST-MODIFIED:20201103T145640Z
UID:17682-1605225600-1605311999@www.stjuliansprimary.com
SUMMARY:Children in Need
DESCRIPTION:Children can donate £1 to come to school in non-uniform and with a crazy hair style!
URL:https://www.stjuliansprimary.com/event/children-in-need-2/
LOCATION:St. Julian’s Primary School\, Beaufort Road\, Newport\, NP19 7UB\, United Kingdom
END:VEVENT
BEGIN:VEVENT
DTSTART;VALUE=DATE:20201109
DTEND;VALUE=DATE:20201113
DTSTAMP:20260420T194944
CREATED:20201030T174828Z
LAST-MODIFIED:20201030T174828Z
UID:17620-1604880000-1605225599@www.stjuliansprimary.com
SUMMARY:KS2 Pupil Progress Phone Calls
DESCRIPTION:As we are unable to hold parents’ evening this year\, teachers will contact parents via telephone for 10 minute phone consultations. You can book using our online booking system or by telephoning the school office. 10 minute appointments after school from Monday to Thursday available.
URL:https://www.stjuliansprimary.com/event/ks2-pupil-progress-phone-calls/
LOCATION:St. Julian’s Primary School\, Beaufort Road\, Newport\, NP19 7UB\, United Kingdom
END:VEVENT
BEGIN:VEVENT
DTSTART;VALUE=DATE:20201102
DTEND;VALUE=DATE:20201103
DTSTAMP:20260420T194944
CREATED:20201028T205526Z
LAST-MODIFIED:20201028T205526Z
UID:17606-1604275200-1604361599@www.stjuliansprimary.com
SUMMARY:Children back to school
DESCRIPTION:
URL:https://www.stjuliansprimary.com/event/children-back-to-school/
END:VEVENT
BEGIN:VEVENT
DTSTART;VALUE=DATE:20201026
DTEND;VALUE=DATE:20201031
DTSTAMP:20260420T194944
CREATED:20201026T000000Z
LAST-MODIFIED:20201028T205441Z
UID:17603-1603670400-1604102399@www.stjuliansprimary.com
SUMMARY:Autumn Half Term
DESCRIPTION:School Closed for Half Term Break
URL:https://www.stjuliansprimary.com/event/half-term-5/
LOCATION:St. Julian’s Primary School\, Beaufort Road\, Newport\, NP19 7UB\, United Kingdom
END:VEVENT
BEGIN:VEVENT
DTSTART;TZID=Europe/London:20201009T131500
DTEND;TZID=Europe/London:20201009T143000
DTSTAMP:20260420T194944
CREATED:20201006T121500Z
LAST-MODIFIED:20201006T183958Z
UID:17395-1602249300-1602253800@www.stjuliansprimary.com
SUMMARY:Harvest Assembly
DESCRIPTION:Harvest Assembly
URL:https://www.stjuliansprimary.com/event/harvest-assembly-2/
LOCATION:St. Julian’s Primary School\, Beaufort Road\, Newport\, NP19 7UB\, United Kingdom
END:VEVENT
BEGIN:VEVENT
DTSTART;VALUE=DATE:20201006
DTEND;VALUE=DATE:20201008
DTSTAMP:20260420T194944
CREATED:20201005T230000Z
LAST-MODIFIED:20201006T183820Z
UID:17392-1601942400-1602115199@www.stjuliansprimary.com
SUMMARY:Influenza Nasal Spray Vaccine
DESCRIPTION:Foundation Phase – Tuesday\nJuniors – Wednesday
URL:https://www.stjuliansprimary.com/event/influenza-nasal-spray-vaccine/
LOCATION:St. Julian’s Primary School\, Beaufort Road\, Newport\, NP19 7UB\, United Kingdom
END:VEVENT
BEGIN:VEVENT
DTSTART;TZID=Europe/London:20200401T142000
DTEND;TZID=Europe/London:20200401T151000
DTSTAMP:20260420T194944
CREATED:20200225T094902Z
LAST-MODIFIED:20200225T094902Z
UID:16750-1585750800-1585753800@www.stjuliansprimary.com
SUMMARY:Year 2 Numeracy workshop
DESCRIPTION:This is an opportunity for Year 2 families to come in and work alongside their children. We will be exploring ways to support the development of Numeracy skills at home. We look forward to seeing you.
URL:https://www.stjuliansprimary.com/event/year-2-numeracy-workshop-2/
END:VEVENT
BEGIN:VEVENT
DTSTART;TZID=Europe/London:20200323T091000
DTEND;TZID=Europe/London:20200323T091000
DTSTAMP:20260420T194944
CREATED:20200310T083624Z
LAST-MODIFIED:20200310T083624Z
UID:16808-1584954600-1584954600@www.stjuliansprimary.com
SUMMARY:Year 2's trip to Slimbridge (rescheduled)
DESCRIPTION:The coach will leave at 9:10am and return to school at 2:50pm. \nPlease pupils wear school uniform\, wellington boots and a coat. \nPupils will need a packed lunch and a water bottle. \nWhilst at the Slimbridge Centre\, pupils will explore what and how birds eat\, they will go bird spotting to see how many birds they can identify and they will view the amazing wildlife up-close. More information about Slimbridge can be found at www.wwt.org.uk/wetland-centres/slimbridge/.
URL:https://www.stjuliansprimary.com/event/year-2s-trip-to-slimbridge-rescheduled/
END:VEVENT
BEGIN:VEVENT
DTSTART;TZID=Europe/London:20200318T142000
DTEND;TZID=Europe/London:20200318T151000
DTSTAMP:20260420T194944
CREATED:20200225T095026Z
LAST-MODIFIED:20200225T095026Z
UID:16753-1584541200-1584544200@www.stjuliansprimary.com
SUMMARY:Year 1 Numeracy workshop
DESCRIPTION:This is an opportunity for Year 1 families to come in and work alongside their children. We will be exploring ways to support the development of Numeracy skills at home. We look forward to seeing you.
URL:https://www.stjuliansprimary.com/event/year-1-numeracy-workshop-3/
END:VEVENT
END:VCALENDAR