BEGIN:VCALENDAR
VERSION:2.0
PRODID:-//St Julians Primary School - ECPv6.15.20//NONSGML v1.0//EN
CALSCALE:GREGORIAN
METHOD:PUBLISH
X-ORIGINAL-URL:https://www.stjuliansprimary.com
X-WR-CALDESC:Events for St Julians Primary School
REFRESH-INTERVAL;VALUE=DURATION:PT1H
X-Robots-Tag:noindex
X-PUBLISHED-TTL:PT1H
BEGIN:VTIMEZONE
TZID:Europe/London
BEGIN:DAYLIGHT
TZOFFSETFROM:+0000
TZOFFSETTO:+0100
TZNAME:BST
DTSTART:20180325T010000
END:DAYLIGHT
BEGIN:STANDARD
TZOFFSETFROM:+0100
TZOFFSETTO:+0000
TZNAME:GMT
DTSTART:20181028T010000
END:STANDARD
BEGIN:DAYLIGHT
TZOFFSETFROM:+0000
TZOFFSETTO:+0100
TZNAME:BST
DTSTART:20190331T010000
END:DAYLIGHT
BEGIN:STANDARD
TZOFFSETFROM:+0100
TZOFFSETTO:+0000
TZNAME:GMT
DTSTART:20191027T010000
END:STANDARD
BEGIN:DAYLIGHT
TZOFFSETFROM:+0000
TZOFFSETTO:+0100
TZNAME:BST
DTSTART:20200329T010000
END:DAYLIGHT
BEGIN:STANDARD
TZOFFSETFROM:+0100
TZOFFSETTO:+0000
TZNAME:GMT
DTSTART:20201025T010000
END:STANDARD
BEGIN:DAYLIGHT
TZOFFSETFROM:+0000
TZOFFSETTO:+0100
TZNAME:BST
DTSTART:20210328T010000
END:DAYLIGHT
BEGIN:STANDARD
TZOFFSETFROM:+0100
TZOFFSETTO:+0000
TZNAME:GMT
DTSTART:20211031T010000
END:STANDARD
END:VTIMEZONE
BEGIN:VEVENT
DTSTART;VALUE=DATE:20201116
DTEND;VALUE=DATE:20201120
DTSTAMP:20260421T162708
CREATED:20201030T174908Z
LAST-MODIFIED:20201030T174908Z
UID:17622-1605484800-1605830399@www.stjuliansprimary.com
SUMMARY:FP Pupil Progress Phone Calls
DESCRIPTION:As we are unable to hold parents’ evening this year\, teachers will contact parents via telephone for 10 minute phone consultations. You can book using our online booking system or by telephoning the school office. 10 minute appointments after school from Monday to Thursday available.
URL:https://www.stjuliansprimary.com/event/fp-pupil-progress-phone-calls/
LOCATION:St Julian’s Primary School\, Beaufort Road\, Newport\, NP197UB\, United Kingdom
END:VEVENT
BEGIN:VEVENT
DTSTART;VALUE=DATE:20201113
DTEND;VALUE=DATE:20201114
DTSTAMP:20260421T162708
CREATED:20201103T145640Z
LAST-MODIFIED:20201103T145640Z
UID:17682-1605225600-1605311999@www.stjuliansprimary.com
SUMMARY:Children in Need
DESCRIPTION:Children can donate £1 to come to school in non-uniform and with a crazy hair style!
URL:https://www.stjuliansprimary.com/event/children-in-need-2/
LOCATION:St. Julian’s Primary School\, Beaufort Road\, Newport\, NP19 7UB\, United Kingdom
END:VEVENT
BEGIN:VEVENT
DTSTART;VALUE=DATE:20201109
DTEND;VALUE=DATE:20201113
DTSTAMP:20260421T162708
CREATED:20201030T174828Z
LAST-MODIFIED:20201030T174828Z
UID:17620-1604880000-1605225599@www.stjuliansprimary.com
SUMMARY:KS2 Pupil Progress Phone Calls
DESCRIPTION:As we are unable to hold parents’ evening this year\, teachers will contact parents via telephone for 10 minute phone consultations. You can book using our online booking system or by telephoning the school office. 10 minute appointments after school from Monday to Thursday available.
URL:https://www.stjuliansprimary.com/event/ks2-pupil-progress-phone-calls/
LOCATION:St. Julian’s Primary School\, Beaufort Road\, Newport\, NP19 7UB\, United Kingdom
END:VEVENT
BEGIN:VEVENT
DTSTART;VALUE=DATE:20201102
DTEND;VALUE=DATE:20201103
DTSTAMP:20260421T162708
CREATED:20201028T205526Z
LAST-MODIFIED:20201028T205526Z
UID:17606-1604275200-1604361599@www.stjuliansprimary.com
SUMMARY:Children back to school
DESCRIPTION:
URL:https://www.stjuliansprimary.com/event/children-back-to-school/
END:VEVENT
BEGIN:VEVENT
DTSTART;VALUE=DATE:20201026
DTEND;VALUE=DATE:20201031
DTSTAMP:20260421T162708
CREATED:20201026T000000Z
LAST-MODIFIED:20201028T205441Z
UID:17603-1603670400-1604102399@www.stjuliansprimary.com
SUMMARY:Autumn Half Term
DESCRIPTION:School Closed for Half Term Break
URL:https://www.stjuliansprimary.com/event/half-term-5/
LOCATION:St. Julian’s Primary School\, Beaufort Road\, Newport\, NP19 7UB\, United Kingdom
END:VEVENT
BEGIN:VEVENT
DTSTART;TZID=Europe/London:20201009T131500
DTEND;TZID=Europe/London:20201009T143000
DTSTAMP:20260421T162708
CREATED:20201006T121500Z
LAST-MODIFIED:20201006T183958Z
UID:17395-1602249300-1602253800@www.stjuliansprimary.com
SUMMARY:Harvest Assembly
DESCRIPTION:Harvest Assembly
URL:https://www.stjuliansprimary.com/event/harvest-assembly-2/
LOCATION:St. Julian’s Primary School\, Beaufort Road\, Newport\, NP19 7UB\, United Kingdom
END:VEVENT
BEGIN:VEVENT
DTSTART;VALUE=DATE:20201006
DTEND;VALUE=DATE:20201008
DTSTAMP:20260421T162708
CREATED:20201005T230000Z
LAST-MODIFIED:20201006T183820Z
UID:17392-1601942400-1602115199@www.stjuliansprimary.com
SUMMARY:Influenza Nasal Spray Vaccine
DESCRIPTION:Foundation Phase – Tuesday\nJuniors – Wednesday
URL:https://www.stjuliansprimary.com/event/influenza-nasal-spray-vaccine/
LOCATION:St. Julian’s Primary School\, Beaufort Road\, Newport\, NP19 7UB\, United Kingdom
END:VEVENT
BEGIN:VEVENT
DTSTART;TZID=Europe/London:20200401T142000
DTEND;TZID=Europe/London:20200401T151000
DTSTAMP:20260421T162708
CREATED:20200225T094902Z
LAST-MODIFIED:20200225T094902Z
UID:16750-1585750800-1585753800@www.stjuliansprimary.com
SUMMARY:Year 2 Numeracy workshop
DESCRIPTION:This is an opportunity for Year 2 families to come in and work alongside their children. We will be exploring ways to support the development of Numeracy skills at home. We look forward to seeing you.
URL:https://www.stjuliansprimary.com/event/year-2-numeracy-workshop-2/
END:VEVENT
BEGIN:VEVENT
DTSTART;TZID=Europe/London:20200323T091000
DTEND;TZID=Europe/London:20200323T091000
DTSTAMP:20260421T162708
CREATED:20200310T083624Z
LAST-MODIFIED:20200310T083624Z
UID:16808-1584954600-1584954600@www.stjuliansprimary.com
SUMMARY:Year 2's trip to Slimbridge (rescheduled)
DESCRIPTION:The coach will leave at 9:10am and return to school at 2:50pm. \nPlease pupils wear school uniform\, wellington boots and a coat. \nPupils will need a packed lunch and a water bottle. \nWhilst at the Slimbridge Centre\, pupils will explore what and how birds eat\, they will go bird spotting to see how many birds they can identify and they will view the amazing wildlife up-close. More information about Slimbridge can be found at www.wwt.org.uk/wetland-centres/slimbridge/.
URL:https://www.stjuliansprimary.com/event/year-2s-trip-to-slimbridge-rescheduled/
END:VEVENT
BEGIN:VEVENT
DTSTART;TZID=Europe/London:20200318T142000
DTEND;TZID=Europe/London:20200318T151000
DTSTAMP:20260421T162708
CREATED:20200225T095026Z
LAST-MODIFIED:20200225T095026Z
UID:16753-1584541200-1584544200@www.stjuliansprimary.com
SUMMARY:Year 1 Numeracy workshop
DESCRIPTION:This is an opportunity for Year 1 families to come in and work alongside their children. We will be exploring ways to support the development of Numeracy skills at home. We look forward to seeing you.
URL:https://www.stjuliansprimary.com/event/year-1-numeracy-workshop-3/
END:VEVENT
BEGIN:VEVENT
DTSTART;VALUE=DATE:20200318
DTEND;VALUE=DATE:20200319
DTSTAMP:20260421T162708
CREATED:20200309T094019Z
LAST-MODIFIED:20200316T190352Z
UID:16805-1584489600-1584575999@www.stjuliansprimary.com
SUMMARY:Evacuation trip - Dean Forest Railway
DESCRIPTION:CANCELLED
URL:https://www.stjuliansprimary.com/event/evacuation-trip-dean-forest-railway/
LOCATION:Dean Forest Railway\, Norchard Station Forest Road Lydney Glos\, GL15 4ET\, United Kingdom
END:VEVENT
BEGIN:VEVENT
DTSTART;VALUE=DATE:20200310
DTEND;VALUE=DATE:20200312
DTSTAMP:20260421T162708
CREATED:20200224T205238Z
LAST-MODIFIED:20200224T205238Z
UID:16748-1583798400-1583971199@www.stjuliansprimary.com
SUMMARY:Parents' Evening
DESCRIPTION:Spring Term Parents’ Evenings on Tuesday 10th and Wednesday 11th March. Book a 10-minute appointment using our online booking system: Click Here\nParents will need the event code provided to them in a text message\, via email and on Dojo posts. If you have not received the event code\, please contact the school here.\nAlternatively\, telephone the school office to book your appointment.
URL:https://www.stjuliansprimary.com/event/parents-evening-2/
LOCATION:St. Julian’s Primary School\, Beaufort Road\, Newport\, NP19 7UB\, United Kingdom
END:VEVENT
BEGIN:VEVENT
DTSTART;VALUE=DATE:20200305
DTEND;VALUE=DATE:20200306
DTSTAMP:20260421T162708
CREATED:20200210T135640Z
LAST-MODIFIED:20200210T135640Z
UID:16697-1583366400-1583452799@www.stjuliansprimary.com
SUMMARY:World Book Day
DESCRIPTION:On March 5th 2020 we will be celebrating World Book Day. Children can come to school dressed as their favourite character\, and bring a book to share with others. Book tokens will be given out on the day.
URL:https://www.stjuliansprimary.com/event/world-book-day-3/
LOCATION:St. Julian’s Primary School\, Beaufort Road\, Newport\, NP19 7UB\, United Kingdom
END:VEVENT
BEGIN:VEVENT
DTSTART;TZID=Europe/London:20200304T141500
DTEND;TZID=Europe/London:20200304T151000
DTSTAMP:20260421T162708
CREATED:20200225T102351Z
LAST-MODIFIED:20200225T102351Z
UID:16755-1583331300-1583334600@www.stjuliansprimary.com
SUMMARY:Reception Numeracy workshop
DESCRIPTION:This is an opportunity for Reception families to come in and work alongside their children. We will be exploring ways to support the development of Numeracy skills at home. We look forward to seeing you all. \nThe first part of the workshop will be in the hall so please go to the Reception office for 2:15pm. \n 
URL:https://www.stjuliansprimary.com/event/reception-numeracy-workshop-3/
END:VEVENT
BEGIN:VEVENT
DTSTART;VALUE=DATE:20200302
DTEND;VALUE=DATE:20200303
DTSTAMP:20260421T162708
CREATED:20200210T140806Z
LAST-MODIFIED:20200210T140806Z
UID:16699-1583107200-1583193599@www.stjuliansprimary.com
SUMMARY:Year 5 visit to Big Pit
DESCRIPTION:Year 5 will visit Big Pit and find out about life in the mines.
URL:https://www.stjuliansprimary.com/event/year-5-visit-to-big-pit/
LOCATION:Big Pit\, Blaenafon\, NP4 9XP\, United Kingdom
END:VEVENT
BEGIN:VEVENT
DTSTART;TZID=Europe/London:20200211T104500
DTEND;TZID=Europe/London:20200211T114500
DTSTAMP:20260421T162708
CREATED:20200114T191035Z
LAST-MODIFIED:20200114T191035Z
UID:16619-1581417900-1581421500@www.stjuliansprimary.com
SUMMARY:Fire Service visiting Class 5
DESCRIPTION:
URL:https://www.stjuliansprimary.com/event/fire-service-visiting-class-5/
END:VEVENT
BEGIN:VEVENT
DTSTART;TZID=Europe/London:20200211T090000
DTEND;TZID=Europe/London:20200211T110000
DTSTAMP:20260421T162708
CREATED:20191016T125447Z
LAST-MODIFIED:20191017T081619Z
UID:16243-1581411600-1581418800@www.stjuliansprimary.com
SUMMARY:Y4BD/RHP Trip to Pizza Express
DESCRIPTION:Mrs Daly’s children will be involved in making their own pizzas and tasting a range of ingredients.
URL:https://www.stjuliansprimary.com/event/y4bd-rhp-trip-to-pizza-express/
LOCATION:pizza express\, Spytty Road\, np19 4qq\, United Kingdom
END:VEVENT
BEGIN:VEVENT
DTSTART;TZID=Europe/London:20200210T090000
DTEND;TZID=Europe/London:20200210T145000
DTSTAMP:20260421T162708
CREATED:20200107T094628Z
LAST-MODIFIED:20200107T094628Z
UID:16606-1581325200-1581346200@www.stjuliansprimary.com
SUMMARY:Year 2 trip to Slimbridge Wetland Centre
DESCRIPTION:The coach will leave at 9:10am and return to school at 2:50pm. \nPlease pupils wear school uniform\, wellington boots and a coat. \nPupils will need a packed lunch and a water bottle. \nWhilst at the Slimbridge Centre\, pupils will explore what and how birds eat\, they will go bird spotting to see how many birds they can identify and they will view the amazing wildlife up-close. More information about Slimbridge can be found at www.wwt.org.uk/wetland-centres/slimbridge/.
URL:https://www.stjuliansprimary.com/event/year-2-trip-to-slimbridge-wetland-centre/
END:VEVENT
BEGIN:VEVENT
DTSTART;TZID=Europe/London:20200207T091500
DTEND;TZID=Europe/London:20200207T150000
DTSTAMP:20260421T162708
CREATED:20200116T082217Z
LAST-MODIFIED:20200116T082217Z
UID:16633-1581066900-1581087600@www.stjuliansprimary.com
SUMMARY:Family Learning Together Day
DESCRIPTION:Our yearly Family Learning Together Day will be held at the Beaufort Centre. It will start at 9:15am and end at 3:00pm. \nThe day provides a great opportunity for children to learn alongside family members\, giving them an insight into some of the work we do at school. Your child will leave with a bag full of activities that they can use at home. \nYour child will bring home a letter shortly explaining the times for the day. \nWe look forward to seeing you again this year.
URL:https://www.stjuliansprimary.com/event/family-learning-together-day-2/
END:VEVENT
BEGIN:VEVENT
DTSTART;TZID=Europe/London:20200205T143000
DTEND;TZID=Europe/London:20200205T150000
DTSTAMP:20260421T162708
CREATED:20191016T130542Z
LAST-MODIFIED:20191017T082245Z
UID:16253-1580913000-1580914800@www.stjuliansprimary.com
SUMMARY:Y3 Literacy & Numeracy Workshop
DESCRIPTION:Please arrive at the KS2 reception area at 2.15pm. The workshop will begin at 2.20pm in your child’s classroom. This is an opportunity for Year 3 families (parent\, grandparents\, aunts\, uncles)\, to come and work alongside their children. We will be exploring ways to support the development of Literacy and Numeracy skills at home. At the end you will be given some free resources to take with you. We look forward to seeing you there.
URL:https://www.stjuliansprimary.com/event/y3-literacy-numeracy-workshop/
LOCATION:St Julian’s Primary School\, Beaufort Road\, Newport\, NP197UB\, United Kingdom
END:VEVENT
BEGIN:VEVENT
DTSTART;TZID=Europe/London:20200204T090000
DTEND;TZID=Europe/London:20200204T110000
DTSTAMP:20260421T162708
CREATED:20191016T125333Z
LAST-MODIFIED:20200119T191449Z
UID:16239-1580806800-1580814000@www.stjuliansprimary.com
SUMMARY:Y4ES Trip to Pizza Express
DESCRIPTION:Miss Shepherd’s children will be involved in making their own pizzas and tasting a range of ingredients.
URL:https://www.stjuliansprimary.com/event/y4jv-trip-to-pizza-express/
LOCATION:pizza express\, Spytty Road\, np19 4qq\, United Kingdom
END:VEVENT
BEGIN:VEVENT
DTSTART;TZID=Europe/London:20200203T104500
DTEND;TZID=Europe/London:20200203T114500
DTSTAMP:20260421T162708
CREATED:20200114T190930Z
LAST-MODIFIED:20200114T190930Z
UID:16617-1580726700-1580730300@www.stjuliansprimary.com
SUMMARY:Fire Service visiting Class 3
DESCRIPTION:
URL:https://www.stjuliansprimary.com/event/fire-service-visiting-class-3/
END:VEVENT
BEGIN:VEVENT
DTSTART;TZID=Europe/London:20200203T090000
DTEND;TZID=Europe/London:20200203T150000
DTSTAMP:20260421T162708
CREATED:20200112T141704Z
LAST-MODIFIED:20200112T141704Z
UID:16614-1580720400-1580742000@www.stjuliansprimary.com
SUMMARY:Y3 Trip to Bristol Zoo
DESCRIPTION:Y3 children will visit Bristol Zoo and take part in a workshop all about Rainforest animals.  They may even get to hold and touch some of the creatures!
URL:https://www.stjuliansprimary.com/event/y3-trip-to-bristol-zoo-2/
LOCATION:Bristol Zoo\, Clifton\, Bristol\, BS8 3HA\, United Kingdom
END:VEVENT
BEGIN:VEVENT
DTSTART;TZID=Europe/London:20200129T143000
DTEND;TZID=Europe/London:20200129T150000
DTSTAMP:20260421T162708
CREATED:20191016T130326Z
LAST-MODIFIED:20191017T082057Z
UID:16250-1580308200-1580310000@www.stjuliansprimary.com
SUMMARY:Y4 Literacy & Numeracy Workshop
DESCRIPTION:Please arrive at the KS2 reception area at 2.15pm. The workshop will begin at 2.20pm in your child’s classroom. This is an opportunity for Year 4 families (parent\, grandparents\, aunts\, uncles)\, to come and work alongside their children. We will be exploring ways to support the development of Literacy and Numeracy skills at home. At the end you will be given some free resources to take with you. We look forward to seeing you there.
URL:https://www.stjuliansprimary.com/event/y4-literacy-numeracy-workshop/
LOCATION:St. Julian’s Primary School\, Beaufort Road\, Newport\, NP19 7UB\, United Kingdom
END:VEVENT
BEGIN:VEVENT
DTSTART;TZID=Europe/London:20200121T090000
DTEND;TZID=Europe/London:20200121T110000
DTSTAMP:20260421T162708
CREATED:20191016T125001Z
LAST-MODIFIED:20200119T191402Z
UID:16235-1579597200-1579604400@www.stjuliansprimary.com
SUMMARY:Y4JV Trip to Pizza Express
DESCRIPTION:Miss Vers’ children will be involved in making their own pizzas and tasting a range of ingredients.
URL:https://www.stjuliansprimary.com/event/y4es-trip-to-pizza-express/
LOCATION:pizza express\, Spytty Road\, np19 4qq\, United Kingdom
END:VEVENT
BEGIN:VEVENT
DTSTART;TZID=Europe/London:20200117T080000
DTEND;TZID=Europe/London:20200117T170000
DTSTAMP:20260421T162708
CREATED:20200117T163703Z
LAST-MODIFIED:20200123T154606Z
UID:16649-1579248000-1579280400@www.stjuliansprimary.com
SUMMARY:Reception's visit from Walnut tree farm
DESCRIPTION:Reception have kicked off 2020 with their new topic ‘Ar y Fferm’ (On the Farm). We have been researching where wool comes from and the different uses of wool\, we have learnt the names of farm animals in Welsh\, we have done a skype call to a real life farmer and even had farm animals visit us on our playground! We were really excited to meet Rosie and Ruby the goats and Benny and Ruby the donkeys from Walnut Tree Farm! We were able to ask Phillip and Becky some questions and even got to pet and feed the animals! We cannot wait to learn more about farm animals this half term and share all that we have learnt with you at home.
URL:https://www.stjuliansprimary.com/event/receptions-visit-from-walnut-tree-farm/
ATTACH;FMTTYPE=image/jpeg:https://www.stjuliansprimary.com/wp-content/uploads/walnut-tree-farm.jpg
END:VEVENT
BEGIN:VEVENT
DTSTART;TZID=Europe/London:20191217T091500
DTEND;TZID=Europe/London:20191217T144500
DTSTAMP:20260421T162708
CREATED:20191021T191035Z
LAST-MODIFIED:20191021T191035Z
UID:16351-1576574100-1576593900@www.stjuliansprimary.com
SUMMARY:Reception trip to Greenmeadow Farm
DESCRIPTION:Reception will begin their topic ‘Ar y Fferm’ (On the Farm) after Christmas and what better way to get excited about the term ahead than to visit a farm beforehand! Reception will be visiting Greenmeadow Farm on Tuesday 17th December with coaches leaving school at approximately 9:15am. Upon arrival\, the children will have the opportunity to take a tractor and trailer ride\, watch a Nativity performed by the farm animals themselves and even visit Father Christmas; who will be waiting in his cosy farm yard grotto! Due to the time of year\, we would ask that all children attending the trip wear a warm coat\, a hat and preferably wellington boots. Please do not\, however\, buy wellies especially. We do have a few pairs in school that children can lend. All children must bring a packed lunch to school in a backpack on this day\, as we will be eating lunch at the farm. After a fun filled day\, the coach will return to school by approximately 2:45pm. We cannot wait to celebrate a fantastic first term and look forward to an exciting new one on this magical Christmas trip!
URL:https://www.stjuliansprimary.com/event/reception-trip-to-greenmeadow-farm-2/
END:VEVENT
BEGIN:VEVENT
DTSTART;TZID=Europe/London:20191217T090000
DTEND;TZID=Europe/London:20191217T150000
DTSTAMP:20260421T162708
CREATED:20191014T193724Z
LAST-MODIFIED:20191014T193724Z
UID:16223-1576573200-1576594800@www.stjuliansprimary.com
SUMMARY:Reception trip to Greenmeadow Farm
DESCRIPTION:Details to follow
URL:https://www.stjuliansprimary.com/event/reception-trip-to-greenmeadow-farm/
END:VEVENT
BEGIN:VEVENT
DTSTART;TZID=Europe/London:20191209T090000
DTEND;TZID=Europe/London:20191209T120000
DTSTAMP:20260421T162708
CREATED:20191105T095256Z
LAST-MODIFIED:20191105T095256Z
UID:16386-1575882000-1575892800@www.stjuliansprimary.com
SUMMARY:Y3 Christmas visit to Malpas Road Evangelical Church
DESCRIPTION:Pupils in Year 3 have been invited to visit Malpas Road Evangelical Church to take part in an interactive retelling of the Christmas story.
URL:https://www.stjuliansprimary.com/event/y3-christmas-visit-to-malpas-road-evangelical-church-2/
LOCATION:Malpas Road Evangelical Church\, Malpas Road\, Newport\, NP20 5PJ\, United Kingdom
END:VEVENT
BEGIN:VEVENT
DTSTART;TZID=Europe/London:20191204T090000
DTEND;TZID=Europe/London:20191204T144500
DTSTAMP:20260421T162708
CREATED:20191008T085405Z
LAST-MODIFIED:20191008T085405Z
UID:16219-1575450000-1575470700@www.stjuliansprimary.com
SUMMARY:Year 2's trip to Moriah Church\, Risca.
DESCRIPTION:Year 2 will be attending Moriah Church to experience ‘Christmas Through the Keyhole’ and to learn about The Christmas Story. The children will go in classes throughout the day. Please ensure all children have a packed lunch with them. \nThe first class will leave at 9am. The last class will return at 2.45pm.
URL:https://www.stjuliansprimary.com/event/year-2s-trip-to-moriah-church-risca/
END:VEVENT
END:VCALENDAR